BEGIN:VCALENDAR
VERSION:2.0
PRODID:-//Diocèse de Vannes - ECPv6.15.17//NONSGML v1.0//EN
CALSCALE:GREGORIAN
METHOD:PUBLISH
X-WR-CALNAME:Diocèse de Vannes
X-ORIGINAL-URL:https://www.vannes.catholique.fr
X-WR-CALDESC:Évènements pour Diocèse de Vannes
REFRESH-INTERVAL;VALUE=DURATION:PT1H
X-Robots-Tag:noindex
X-PUBLISHED-TTL:PT1H
BEGIN:VTIMEZONE
TZID:Europe/Paris
BEGIN:DAYLIGHT
TZOFFSETFROM:+0100
TZOFFSETTO:+0200
TZNAME:CEST
DTSTART:20230326T010000
END:DAYLIGHT
BEGIN:STANDARD
TZOFFSETFROM:+0200
TZOFFSETTO:+0100
TZNAME:CET
DTSTART:20231029T010000
END:STANDARD
BEGIN:DAYLIGHT
TZOFFSETFROM:+0100
TZOFFSETTO:+0200
TZNAME:CEST
DTSTART:20240331T010000
END:DAYLIGHT
BEGIN:STANDARD
TZOFFSETFROM:+0200
TZOFFSETTO:+0100
TZNAME:CET
DTSTART:20241027T010000
END:STANDARD
BEGIN:DAYLIGHT
TZOFFSETFROM:+0100
TZOFFSETTO:+0200
TZNAME:CEST
DTSTART:20250330T010000
END:DAYLIGHT
BEGIN:STANDARD
TZOFFSETFROM:+0200
TZOFFSETTO:+0100
TZNAME:CET
DTSTART:20251026T010000
END:STANDARD
END:VTIMEZONE
BEGIN:VEVENT
DTSTART;VALUE=DATE:20240613
DTEND;VALUE=DATE:20240614
DTSTAMP:20260423T073736
CREATED:20240606T093625Z
LAST-MODIFIED:20240606T093625Z
UID:89527-1718236800-1718323199@www.vannes.catholique.fr
SUMMARY:Messe à Sainte-Anne-d’Auray pour le pèlerinage du MCR d’Ille-et-Vilaine
DESCRIPTION:
URL:https://www.vannes.catholique.fr/evenement/messe-a-sainte-anne-dauray-pour-le-pelerinage-du-mcr-dille-et-vilaine/
CATEGORIES:Evêque
END:VEVENT
BEGIN:VEVENT
DTSTART;TZID=Europe/Paris:20240613T200000
DTEND;TZID=Europe/Paris:20240613T220000
DTSTAMP:20260423T073736
CREATED:20230601T132051Z
LAST-MODIFIED:20230602T074754Z
UID:83529-1718308800-1718316000@www.vannes.catholique.fr
SUMMARY:Lorient - Athénée Scholè - Itinéraire spirituel 9/9
DESCRIPTION:Lieu : Lorient \nCours 9 – Spiritualité contemporaine et conclusion \n 
URL:https://www.vannes.catholique.fr/evenement/lorient-athenee-schole-itineraire-spirituel-9-9/
CATEGORIES:Formations - Réflexions
ORGANIZER;CN="Formation Humaine et Chr%C3%A9tienne":MAILTO:formationhec@diocese-vannes.fr
END:VEVENT
END:VCALENDAR