BEGIN:VCALENDAR
VERSION:2.0
PRODID:-//Diocèse de Vannes - ECPv6.15.17//NONSGML v1.0//EN
CALSCALE:GREGORIAN
METHOD:PUBLISH
X-ORIGINAL-URL:https://www.vannes.catholique.fr
X-WR-CALDESC:Évènements pour Diocèse de Vannes
REFRESH-INTERVAL;VALUE=DURATION:PT1H
X-Robots-Tag:noindex
X-PUBLISHED-TTL:PT1H
BEGIN:VTIMEZONE
TZID:Europe/Paris
BEGIN:DAYLIGHT
TZOFFSETFROM:+0100
TZOFFSETTO:+0200
TZNAME:CEST
DTSTART:20250330T010000
END:DAYLIGHT
BEGIN:STANDARD
TZOFFSETFROM:+0200
TZOFFSETTO:+0100
TZNAME:CET
DTSTART:20251026T010000
END:STANDARD
BEGIN:DAYLIGHT
TZOFFSETFROM:+0100
TZOFFSETTO:+0200
TZNAME:CEST
DTSTART:20260329T010000
END:DAYLIGHT
BEGIN:STANDARD
TZOFFSETFROM:+0200
TZOFFSETTO:+0100
TZNAME:CET
DTSTART:20261025T010000
END:STANDARD
BEGIN:DAYLIGHT
TZOFFSETFROM:+0100
TZOFFSETTO:+0200
TZNAME:CEST
DTSTART:20270328T010000
END:DAYLIGHT
BEGIN:STANDARD
TZOFFSETFROM:+0200
TZOFFSETTO:+0100
TZNAME:CET
DTSTART:20271031T010000
END:STANDARD
END:VTIMEZONE
BEGIN:VEVENT
DTSTART;VALUE=DATE:20260704
DTEND;VALUE=DATE:20260718
DTSTAMP:20260420T093545
CREATED:20260127T141842Z
LAST-MODIFIED:20260127T141842Z
UID:97455-1783123200-1784332799@www.vannes.catholique.fr
SUMMARY:Morbihan - Camp Saint-Vincent
DESCRIPTION:Camps à vélo pour garçons de 12 à 17 ans. Organisé par l’association Saint-Vincent-Ferrier. \nPréinscription et informations : https://www.csvf.fr/csg-presentation
URL:https://www.vannes.catholique.fr/evenement/morbihan-camp-saint-vincent/
CATEGORIES:Camp Jeunes
END:VEVENT
BEGIN:VEVENT
DTSTART;VALUE=DATE:20260707
DTEND;VALUE=DATE:20260714
DTSTAMP:20260420T093545
CREATED:20260127T141611Z
LAST-MODIFIED:20260127T141611Z
UID:97451-1783382400-1783987199@www.vannes.catholique.fr
SUMMARY:Morbihan - Camp Saint-Guenaël
DESCRIPTION:Camps fixes sous tente pour garçons et filles de 8 à 12 ans. Organisés par l’association Saint-Vincent-Ferrier. \nDeux dates de camp : camp A du 7 au 13 juillet ou camp B du 15 au 21 juillet \nPréinscription et informations : https://www.csvf.fr/csg-presentation
URL:https://www.vannes.catholique.fr/evenement/morbihan-camp-saint-guenael/
CATEGORIES:Camp Jeunes
END:VEVENT
END:VCALENDAR