BEGIN:VCALENDAR
VERSION:2.0
PRODID:-//Diocèse de Vannes - ECPv6.15.17//NONSGML v1.0//EN
CALSCALE:GREGORIAN
METHOD:PUBLISH
X-WR-CALNAME:Diocèse de Vannes
X-ORIGINAL-URL:https://www.vannes.catholique.fr
X-WR-CALDESC:Évènements pour Diocèse de Vannes
REFRESH-INTERVAL;VALUE=DURATION:PT1H
X-Robots-Tag:noindex
X-PUBLISHED-TTL:PT1H
BEGIN:VTIMEZONE
TZID:Europe/Paris
BEGIN:DAYLIGHT
TZOFFSETFROM:+0100
TZOFFSETTO:+0200
TZNAME:CEST
DTSTART:20240331T010000
END:DAYLIGHT
BEGIN:STANDARD
TZOFFSETFROM:+0200
TZOFFSETTO:+0100
TZNAME:CET
DTSTART:20241027T010000
END:STANDARD
BEGIN:DAYLIGHT
TZOFFSETFROM:+0100
TZOFFSETTO:+0200
TZNAME:CEST
DTSTART:20250330T010000
END:DAYLIGHT
BEGIN:STANDARD
TZOFFSETFROM:+0200
TZOFFSETTO:+0100
TZNAME:CET
DTSTART:20251026T010000
END:STANDARD
BEGIN:DAYLIGHT
TZOFFSETFROM:+0100
TZOFFSETTO:+0200
TZNAME:CEST
DTSTART:20260329T010000
END:DAYLIGHT
BEGIN:STANDARD
TZOFFSETFROM:+0200
TZOFFSETTO:+0100
TZNAME:CET
DTSTART:20261025T010000
END:STANDARD
END:VTIMEZONE
BEGIN:VEVENT
DTSTART;TZID=Europe/Paris:20251003T203000
DTEND;TZID=Europe/Paris:20251004T173000
DTSTAMP:20260421T080057
CREATED:20250922T123912Z
LAST-MODIFIED:20250922T123912Z
UID:95466-1759523400-1759599000@www.vannes.catholique.fr
SUMMARY:Josselin - journée mariale de Notre-Dame du Roncier
DESCRIPTION:En savoir plus
URL:https://www.vannes.catholique.fr/evenement/josselin-journee-mariale-de-notre-dame-du-roncier/
CATEGORIES:Célébrations - Prières,Retraites - Sessions
END:VEVENT
BEGIN:VEVENT
DTSTART;TZID=Europe/Paris:20251005T103000
DTEND;TZID=Europe/Paris:20251005T140000
DTSTAMP:20260421T080057
CREATED:20250923T084709Z
LAST-MODIFIED:20250923T084709Z
UID:95500-1759660200-1759672800@www.vannes.catholique.fr
SUMMARY:Lorient - Journée Mondiale du Migrant et du Réfugié : messe et repas
DESCRIPTION:Messe à l’église Sainte-Thérèse de Keryado de Lorient\, suivie d’un repas partagé \nEn savoir plus 
URL:https://www.vannes.catholique.fr/evenement/lorient-journee-mondiale-du-migrant-et-du-refugie-messe-et-repas/
CATEGORIES:Célébrations - Prières
END:VEVENT
BEGIN:VEVENT
DTSTART;TZID=Europe/Paris:20251011T093000
DTEND;TZID=Europe/Paris:20251011T163000
DTSTAMP:20260421T080057
CREATED:20250901T155735Z
LAST-MODIFIED:20250901T155735Z
UID:95079-1760175000-1760200200@www.vannes.catholique.fr
SUMMARY:Sainte-Anne d'Auray - Temps fort CM
DESCRIPTION:Samedi 11 octobre 2025 : de 9h30 à 16h30 à Sainte-Anne-d’Auray\nTemps fort CM\, pour les enfants en classe de CM. Ateliers découvertes sur le thème «Pèlerin de l’Espérance avec saint Vincent Ferrier».\nMesse à la chapelle à 15h30 avec les familles. \nwww.cate-ouest-56.fr/temps-fort-cm-octobre-2025. \nInscription à envoyer à la catéchiste de secteur ou à :  catechese.enfants@diocese-vannes.fr
URL:https://www.vannes.catholique.fr/evenement/sainte-anne-dauray-temps-fort-cm/
CATEGORIES:Célébrations - Prières
END:VEVENT
BEGIN:VEVENT
DTSTART;TZID=Europe/Paris:20251018T200000
DTEND;TZID=Europe/Paris:20251018T220000
DTSTAMP:20260421T080057
CREATED:20251017T081927Z
LAST-MODIFIED:20251017T081927Z
UID:95842-1760817600-1760824800@www.vannes.catholique.fr
SUMMARY:Vannes - Soirée avec la communauté des Béatitudes
DESCRIPTION:« Pétales de Roses » : Soirée animée par la communauté des Béatitudes de Nouan (41). Temps de Louange et d’intercession – enseignement – confessions – Témoignages. \nMaison du Diocèse de Vannes (Espace Montcalm) : 55 rue Mgr Tréhiou.\nA partir de 20 h 15.
URL:https://www.vannes.catholique.fr/evenement/vannes-soiree-avec-la-communaute-des-beatitudes/
LOCATION:Maison du diocèse – Espace Montcalm\, 55 rue Mgr Tréhiou - CS 92241\, Vannes\, 56007\, France
CATEGORIES:Célébrations - Prières
END:VEVENT
BEGIN:VEVENT
DTSTART;VALUE=DATE:20251019
DTEND;VALUE=DATE:20251020
DTSTAMP:20260421T080057
CREATED:20251017T083653Z
LAST-MODIFIED:20251017T083653Z
UID:95854-1760832000-1760918399@www.vannes.catholique.fr
SUMMARY:Plouharnel - Tro Breiz dominical
DESCRIPTION:Ces journées sont organisées par la Fraternité St Patern dans l’esprit du TRO BREIZ relancé en 1994. \n La marche débute après la messe ; les rendez-vous sont à l’église.\n  . Prévoir un pique-nique et de bonnes chaussures.\n. Les parcours font de 10 à 15 km environ.\n  . Se munir si possible d’un livret du pèlerin …pour ceux qui les conservent ! La fin est prévue entre 16h30 et 17h30.\nPLOUHARNEL Devrait son nom à la réunion de deux mots « plou pays » et « saint Harnhael saint Armel en français ». C’était à la fois un pays d’agriculteurs et de pêcheurs. \nMesse à 9 h 30 en l’église St Armel \nDécouverte des chapelles Notre Dame des Fleurs et Ste Barbe très connues à Plouharnel.
URL:https://www.vannes.catholique.fr/evenement/plouharnel-tro-breiz-dominical/
CATEGORIES:Célébrations - Prières,Pèlerinages,Randonnées - Promenades - Visites
END:VEVENT
END:VCALENDAR