BEGIN:VCALENDAR
VERSION:2.0
PRODID:-//Diocèse de Vannes - ECPv6.15.17//NONSGML v1.0//EN
CALSCALE:GREGORIAN
METHOD:PUBLISH
X-WR-CALNAME:Diocèse de Vannes
X-ORIGINAL-URL:https://www.vannes.catholique.fr
X-WR-CALDESC:Évènements pour Diocèse de Vannes
REFRESH-INTERVAL;VALUE=DURATION:PT1H
X-Robots-Tag:noindex
X-PUBLISHED-TTL:PT1H
BEGIN:VTIMEZONE
TZID:Europe/Paris
BEGIN:DAYLIGHT
TZOFFSETFROM:+0100
TZOFFSETTO:+0200
TZNAME:CEST
DTSTART:20240331T010000
END:DAYLIGHT
BEGIN:STANDARD
TZOFFSETFROM:+0200
TZOFFSETTO:+0100
TZNAME:CET
DTSTART:20241027T010000
END:STANDARD
BEGIN:DAYLIGHT
TZOFFSETFROM:+0100
TZOFFSETTO:+0200
TZNAME:CEST
DTSTART:20250330T010000
END:DAYLIGHT
BEGIN:STANDARD
TZOFFSETFROM:+0200
TZOFFSETTO:+0100
TZNAME:CET
DTSTART:20251026T010000
END:STANDARD
BEGIN:DAYLIGHT
TZOFFSETFROM:+0100
TZOFFSETTO:+0200
TZNAME:CEST
DTSTART:20260329T010000
END:DAYLIGHT
BEGIN:STANDARD
TZOFFSETFROM:+0200
TZOFFSETTO:+0100
TZNAME:CET
DTSTART:20261025T010000
END:STANDARD
BEGIN:DAYLIGHT
TZOFFSETFROM:+0100
TZOFFSETTO:+0200
TZNAME:CEST
DTSTART:20270328T010000
END:DAYLIGHT
BEGIN:STANDARD
TZOFFSETFROM:+0200
TZOFFSETTO:+0100
TZNAME:CET
DTSTART:20271031T010000
END:STANDARD
END:VTIMEZONE
BEGIN:VEVENT
DTSTART;VALUE=DATE:20251231
DTEND;VALUE=DATE:20260102
DTSTAMP:20260420T235206
CREATED:20251120T105339Z
LAST-MODIFIED:20251120T105542Z
UID:96216-1767139200-1767311999@www.vannes.catholique.fr
SUMMARY:Pontcalec - Retraite du Nouvel an pour jeunes filles
DESCRIPTION:Les soeurs dominicaines du Saint-Esprit à Pontcalec convient les jeunes filles à un temps de retraite spirituelle à l’occasion du Nouvel An. Réveillon-retraite du 30 décembre au 1er janvier 2026  avec :\n-Temps de prière\n– Enseignements\n– Temps conviviaux \nPratique :\nGare de Lorient\n15 €/jour
URL:https://www.vannes.catholique.fr/evenement/pontcalec-retraite-du-nouvel-an-pour-jeunes-filles/
CATEGORIES:Célébrations - Prières,Formations - Réflexions,Retraites - Sessions
END:VEVENT
BEGIN:VEVENT
DTSTART;VALUE=DATE:20260101
DTEND;VALUE=DATE:20260102
DTSTAMP:20260420T235206
CREATED:20251222T080724Z
LAST-MODIFIED:20251222T080724Z
UID:96854-1767225600-1767311999@www.vannes.catholique.fr
SUMMARY:47ème marche pour la Paix vers Ste Anne d'Auray
DESCRIPTION:Départs de plusieurs localités : \n\nVannes (7h)\nArradon (7h30)\nLandaul (8h)\nPlescop et Saint-Avé (8h)\nPluvigner (8h30)\nAuray\, Brec’h (9h)\nPluneret et Plumergat (9h)\nMériadec (9h30).\n\nOrganisée par Pax Christi et CCFD Terre Solidaire.\n02 97 47 04 52 \n\n 
URL:https://www.vannes.catholique.fr/evenement/47eme-marche-pour-la-paix-vers-ste-anne-dauray/
CATEGORIES:Célébrations - Prières,Pèlerinages,Solidarité
END:VEVENT
BEGIN:VEVENT
DTSTART;VALUE=DATE:20260104
DTEND;VALUE=DATE:20260105
DTSTAMP:20260420T235206
CREATED:20251120T104421Z
LAST-MODIFIED:20251120T104754Z
UID:96212-1767484800-1767571199@www.vannes.catholique.fr
SUMMARY:Quête de l'Épiphanie pour les diocèses africains
DESCRIPTION:Comme chaque année\, l’Église de France organise une collecte le dimanche de l’Épiphanie\, soit le 4 janvier 2026\, qui permet de soutenir les projets pastoraux de plus de 230 diocèses du continent africain. \n 
URL:https://www.vannes.catholique.fr/evenement/quete-de-lepiphanie-pour-les-dioceses-africains/
CATEGORIES:Célébrations - Prières
END:VEVENT
BEGIN:VEVENT
DTSTART;VALUE=DATE:20260104
DTEND;VALUE=DATE:20260105
DTSTAMP:20260420T235206
CREATED:20251222T081720Z
LAST-MODIFIED:20251222T081720Z
UID:96864-1767484800-1767571199@www.vannes.catholique.fr
SUMMARY:Penboc'h - Dimanche de la Fraternité
DESCRIPTION:Journée de rencontre et de partage. Ouvert à tous. Sans inscription préalable. \n> Les dimanches de la fraternité sont un temps de partages fraternels et amicaux dans la simplicité qui permettent de sortir de l’isolement et de la solitude. \nCette proposition est ouverte à tous\, elle est une occasion de créer des liens. \n\nEucharistie à 11 h 15\nRepas partagé à 12h30\,\nPrésentation de l’Église verte à 14h\, par Marie Lorraine Houot\, chargée de mission pour l’équipe nationale suivie d’une animation de groupe sur le thème de l’eau et de sa fragilité en tant que ressource nécessaire à la vie. Un échange avec l’intervenante terminera l’après midi sur ce thème. (Fin à 16 h)\n\n02 97 44 83 83 / En savoir plus
URL:https://www.vannes.catholique.fr/evenement/penboch-dimanche-de-la-fraternite/
CATEGORIES:Célébrations - Prières,Formations - Réflexions
ORGANIZER;CN="Centre Spirituel de Penboc'h":MAILTO:accueil@penboch.fr
END:VEVENT
BEGIN:VEVENT
DTSTART;TZID=Europe/Paris:20260117T170000
DTEND;TZID=Europe/Paris:20260117T230000
DTSTAMP:20260420T235206
CREATED:20260102T093150Z
LAST-MODIFIED:20260102T093150Z
UID:96946-1768669200-1768690800@www.vannes.catholique.fr
SUMMARY:Marche aux flambeaux en l'honneur de Saint Joseph
DESCRIPTION:17 h : Départ de l’église de Guidel (centre village)\nMarche vers la chapelle Saint-Matthieu pour un temps d’adoration et de chants\nRetour à Guidel\, Messe à 22 h 00 suivie d’un temps convivial \nParticipation : 2 €/mineur\, 8 €/18-25 ans\, 10 €/adulte\nInformations : hsj.lorient@gmail.com\nInscription obligatoire sur Lydia \nEn savoir plus \n 
URL:https://www.vannes.catholique.fr/evenement/marche-aux-flambeaux-en-lhonneur-de-saint-joseph/
CATEGORIES:Célébrations - Prières,Pardons,Pèlerinages
END:VEVENT
BEGIN:VEVENT
DTSTART;TZID=Europe/Paris:20260122T200000
DTEND;TZID=Europe/Paris:20260122T210000
DTSTAMP:20260420T235206
CREATED:20260119T163836Z
LAST-MODIFIED:20260119T163836Z
UID:97113-1769112000-1769115600@www.vannes.catholique.fr
SUMMARY:Sarzeau - Veillée œcuménique
DESCRIPTION:Veillée œcuménique de prière pour l’unité des chrétiens\, à 20 h 00\,\nà l’église Saint-Saturnin de Sarzeau.
URL:https://www.vannes.catholique.fr/evenement/sarzeau-veillee-oecumenique/
CATEGORIES:Célébrations - Prières
END:VEVENT
BEGIN:VEVENT
DTSTART;TZID=Europe/Paris:20260122T200000
DTEND;TZID=Europe/Paris:20260122T210000
DTSTAMP:20260420T235206
CREATED:20260119T164038Z
LAST-MODIFIED:20260119T164132Z
UID:97116-1769112000-1769115600@www.vannes.catholique.fr
SUMMARY:Vannes - Soirée œcuménique
DESCRIPTION:Soirée de prière à 20 heures\, à la Maison du Diocèse. \nEntrée par le parking situé rue des Ursulines.
URL:https://www.vannes.catholique.fr/evenement/vannes-soiree-oecumenique/
CATEGORIES:Célébrations - Prières
END:VEVENT
BEGIN:VEVENT
DTSTART;VALUE=DATE:20260124
DTEND;VALUE=DATE:20260126
DTSTAMP:20260420T235206
CREATED:20251113T095856Z
LAST-MODIFIED:20251113T095856Z
UID:96122-1769212800-1769385599@www.vannes.catholique.fr
SUMMARY:Malestroit - Week-end de discernement vocationnel Amor Dei
DESCRIPTION:24-25 janvier\, « Baptême et vie consacrée » chez les Sœurs augustines Hospitalières de la Miséricorde\, à Malestroit \nAmor Dei est un parcours vocationnel qui propose aux jeunes femmes de réfléchir à leur vocation quelle qu’elle soit. Une route d’été et plusieurs week-ends dans l’année sont proposés. En savoir plus\nparcoursvocationamordei@gmail.com\n07 85 87 93 25 \n  \n  \n 
URL:https://www.vannes.catholique.fr/evenement/malestroit-week-end-de-discernement-vocationnel-amor-dei/
LOCATION:Maison Notre Dame de Fatima\, Bieuzy Lanvaux\, Pluvigner\, 56330\, France
CATEGORIES:Célébrations - Prières,Formations - Réflexions
END:VEVENT
BEGIN:VEVENT
DTSTART;TZID=Europe/Paris:20260129T200000
DTEND;TZID=Europe/Paris:20260129T220000
DTSTAMP:20260420T235206
CREATED:20260127T154851Z
LAST-MODIFIED:20260127T154851Z
UID:97460-1769716800-1769724000@www.vannes.catholique.fr
SUMMARY:Vannes - École d'oraison
DESCRIPTION:Apprendre\, approfondir\, pratiquer la prière silencieuse\, avec les saints du carmel. De 20h15 à 22h15 \nJeudi 29 janvier\, jeudis 5 et 12 février\, 5 mars\, mardi 10 mars\, jeudi 19 mars. \nhttps://www.billetweb.fr/ecole-oraison
URL:https://www.vannes.catholique.fr/evenement/vannes-ecole-doraison/
LOCATION:Maison du diocèse – Espace Montcalm\, 55 rue Mgr Tréhiou - CS 92241\, Vannes\, 56007\, France
CATEGORIES:Célébrations - Prières
END:VEVENT
END:VCALENDAR