BEGIN:VCALENDAR
VERSION:2.0
PRODID:-//Diocèse de Vannes - ECPv6.15.17//NONSGML v1.0//EN
CALSCALE:GREGORIAN
METHOD:PUBLISH
X-WR-CALNAME:Diocèse de Vannes
X-ORIGINAL-URL:https://www.vannes.catholique.fr
X-WR-CALDESC:Évènements pour Diocèse de Vannes
REFRESH-INTERVAL;VALUE=DURATION:PT1H
X-Robots-Tag:noindex
X-PUBLISHED-TTL:PT1H
BEGIN:VTIMEZONE
TZID:Europe/Paris
BEGIN:DAYLIGHT
TZOFFSETFROM:+0100
TZOFFSETTO:+0200
TZNAME:CEST
DTSTART:20250330T010000
END:DAYLIGHT
BEGIN:STANDARD
TZOFFSETFROM:+0200
TZOFFSETTO:+0100
TZNAME:CET
DTSTART:20251026T010000
END:STANDARD
BEGIN:DAYLIGHT
TZOFFSETFROM:+0100
TZOFFSETTO:+0200
TZNAME:CEST
DTSTART:20260329T010000
END:DAYLIGHT
BEGIN:STANDARD
TZOFFSETFROM:+0200
TZOFFSETTO:+0100
TZNAME:CET
DTSTART:20261025T010000
END:STANDARD
BEGIN:DAYLIGHT
TZOFFSETFROM:+0100
TZOFFSETTO:+0200
TZNAME:CEST
DTSTART:20270328T010000
END:DAYLIGHT
BEGIN:STANDARD
TZOFFSETFROM:+0200
TZOFFSETTO:+0100
TZNAME:CET
DTSTART:20271031T010000
END:STANDARD
END:VTIMEZONE
BEGIN:VEVENT
DTSTART;TZID=Europe/Paris:20260205T200000
DTEND;TZID=Europe/Paris:20260205T220000
DTSTAMP:20260420T083852
CREATED:20260127T154948Z
LAST-MODIFIED:20260127T154948Z
UID:97462-1770321600-1770328800@www.vannes.catholique.fr
SUMMARY:Vannes - École d'oraison
DESCRIPTION:Apprendre\, approfondir\, pratiquer la prière silencieuse\, avec les saints du carmel. De 20h15 à 22h15 \nJjeudis 5 et 12 février\, 5 mars\, mardi 10 mars\, jeudi 19 mars. \nhttps://www.billetweb.fr/ecole-oraison
URL:https://www.vannes.catholique.fr/evenement/vannes-ecole-doraison-2/
LOCATION:Maison du diocèse – Espace Montcalm\, 55 rue Mgr Tréhiou - CS 92241\, Vannes\, 56007\, France
CATEGORIES:Célébrations - Prières
END:VEVENT
BEGIN:VEVENT
DTSTART;TZID=Europe/Paris:20260212T200000
DTEND;TZID=Europe/Paris:20260212T220000
DTSTAMP:20260420T083852
CREATED:20260127T155036Z
LAST-MODIFIED:20260127T155036Z
UID:97464-1770926400-1770933600@www.vannes.catholique.fr
SUMMARY:Vannes - École d'oraison
DESCRIPTION:Apprendre\, approfondir\, pratiquer la prière silencieuse\, avec les saints du carmel. De 20h15 à 22h15 \nJeudi 12 février\, 5 mars\, mardi 10 mars\, jeudi 19 mars. \nhttps://www.billetweb.fr/ecole-oraison
URL:https://www.vannes.catholique.fr/evenement/vannes-ecole-doraison-3/
LOCATION:Maison du diocèse – Espace Montcalm\, 55 rue Mgr Tréhiou - CS 92241\, Vannes\, 56007\, France
CATEGORIES:Célébrations - Prières
END:VEVENT
BEGIN:VEVENT
DTSTART;TZID=Europe/Paris:20260215T150000
DTEND;TZID=Europe/Paris:20260215T170000
DTSTAMP:20260420T083852
CREATED:20260212T171043Z
LAST-MODIFIED:20260212T171043Z
UID:97766-1771167600-1771174800@www.vannes.catholique.fr
SUMMARY:Belz - Prière avec "Les chapelles chantantes"
DESCRIPTION:Le petit groupe de prière « les chapelles chantantes » animé par Alexis et Denise Kerivel vous invite à le rejoindre pour la prière à la chapelle Saint Clément en la paroisse de Belz dimanche 15 février à 15 h.
URL:https://www.vannes.catholique.fr/evenement/belz-priere-avec-les-chapelles-chantantes/
CATEGORIES:Célébrations - Prières
END:VEVENT
BEGIN:VEVENT
DTSTART;TZID=Europe/Paris:20260222T103000
DTEND;TZID=Europe/Paris:20260222T120000
DTSTAMP:20260420T083852
CREATED:20260206T131004Z
LAST-MODIFIED:20260206T131004Z
UID:97730-1771756200-1771761600@www.vannes.catholique.fr
SUMMARY:Sérent - Appel décisif des catéchumènes
DESCRIPTION:En l’église de Sérent
URL:https://www.vannes.catholique.fr/evenement/serent-appel-decisif-des-catechumenes/
CATEGORIES:Célébrations - Prières
END:VEVENT
BEGIN:VEVENT
DTSTART;TZID=Europe/Paris:20260222T103000
DTEND;TZID=Europe/Paris:20260222T120000
DTSTAMP:20260420T083852
CREATED:20260206T131041Z
LAST-MODIFIED:20260206T131041Z
UID:97732-1771756200-1771761600@www.vannes.catholique.fr
SUMMARY:Sérent - Appel décisif des catéchumènes
DESCRIPTION:En l’église de Sérent
URL:https://www.vannes.catholique.fr/evenement/serent-appel-decisif-des-catechumenes-2/
CATEGORIES:Célébrations - Prières,Evêque
END:VEVENT
BEGIN:VEVENT
DTSTART;TZID=Europe/Paris:20260222T140000
DTEND;TZID=Europe/Paris:20260222T183000
DTSTAMP:20260420T083852
CREATED:20260127T105503Z
LAST-MODIFIED:20260127T105503Z
UID:97416-1771768800-1771785000@www.vannes.catholique.fr
SUMMARY:Lorient - Jesus Day
DESCRIPTION:Louange\, adoration\, enseignement\, guérison. Louange par Adorons Adonaï. En présence du père Dominique de Lafforest. \n06 30 55 91 40
URL:https://www.vannes.catholique.fr/evenement/lorient-jesus-day/
LOCATION:Eglise du Sacré-Coeur\, Le Moustoir\, Lorient
CATEGORIES:Célébrations - Prières
END:VEVENT
END:VCALENDAR