BEGIN:VCALENDAR
VERSION:2.0
PRODID:-//Diocèse de Vannes - ECPv6.15.17//NONSGML v1.0//EN
CALSCALE:GREGORIAN
METHOD:PUBLISH
X-ORIGINAL-URL:https://www.vannes.catholique.fr
X-WR-CALDESC:Évènements pour Diocèse de Vannes
REFRESH-INTERVAL;VALUE=DURATION:PT1H
X-Robots-Tag:noindex
X-PUBLISHED-TTL:PT1H
BEGIN:VTIMEZONE
TZID:Europe/Paris
BEGIN:DAYLIGHT
TZOFFSETFROM:+0100
TZOFFSETTO:+0200
TZNAME:CEST
DTSTART:20240331T010000
END:DAYLIGHT
BEGIN:STANDARD
TZOFFSETFROM:+0200
TZOFFSETTO:+0100
TZNAME:CET
DTSTART:20241027T010000
END:STANDARD
BEGIN:DAYLIGHT
TZOFFSETFROM:+0100
TZOFFSETTO:+0200
TZNAME:CEST
DTSTART:20250330T010000
END:DAYLIGHT
BEGIN:STANDARD
TZOFFSETFROM:+0200
TZOFFSETTO:+0100
TZNAME:CET
DTSTART:20251026T010000
END:STANDARD
BEGIN:DAYLIGHT
TZOFFSETFROM:+0100
TZOFFSETTO:+0200
TZNAME:CEST
DTSTART:20260329T010000
END:DAYLIGHT
BEGIN:STANDARD
TZOFFSETFROM:+0200
TZOFFSETTO:+0100
TZNAME:CET
DTSTART:20261025T010000
END:STANDARD
END:VTIMEZONE
BEGIN:VEVENT
DTSTART;TZID=Europe/Paris:20250415T103000
DTEND;TZID=Europe/Paris:20250415T120000
DTSTAMP:20260424T015422
CREATED:20250401T103751Z
LAST-MODIFIED:20250401T103751Z
UID:92980-1744713000-1744718400@www.vannes.catholique.fr
SUMMARY:Messe chrismale à Sainte-Anne d'Auray
DESCRIPTION:
URL:https://www.vannes.catholique.fr/evenement/messe-chrismale-a-sainte-anne-dauray/
CATEGORIES:Célébrations - Prières,Evêque
END:VEVENT
BEGIN:VEVENT
DTSTART;TZID=Europe/Paris:20250415T103000
DTEND;TZID=Europe/Paris:20250415T123000
DTSTAMP:20260424T015422
CREATED:20250409T151255Z
LAST-MODIFIED:20250409T151326Z
UID:93145-1744713000-1744720200@www.vannes.catholique.fr
SUMMARY:Messe chrismale à Sainte-Anne d'Auray
DESCRIPTION:Messe chrismale à 10 h 30\, en la basilique de Sainte-Anne d’Auray. \nBénédiction des huiles saintes\nConsécration du Saint-Chrême\nRenouvellement des promesses sacerdotales
URL:https://www.vannes.catholique.fr/evenement/messe-chrismale-a-sainte-anne-dauray-mardi-15-avril/
LOCATION:Basilique Sainte Anne d’Auray\, 9 rue de Vannes\, Sainte Anne d'Auray\, 56400\, France
CATEGORIES:Célébrations - Prières
END:VEVENT
END:VCALENDAR