BEGIN:VCALENDAR
VERSION:2.0
PRODID:-//Diocèse de Vannes - ECPv6.15.17//NONSGML v1.0//EN
CALSCALE:GREGORIAN
METHOD:PUBLISH
X-ORIGINAL-URL:https://www.vannes.catholique.fr
X-WR-CALDESC:Évènements pour Diocèse de Vannes
REFRESH-INTERVAL;VALUE=DURATION:PT1H
X-Robots-Tag:noindex
X-PUBLISHED-TTL:PT1H
BEGIN:VTIMEZONE
TZID:Europe/Paris
BEGIN:DAYLIGHT
TZOFFSETFROM:+0100
TZOFFSETTO:+0200
TZNAME:CEST
DTSTART:20240331T010000
END:DAYLIGHT
BEGIN:STANDARD
TZOFFSETFROM:+0200
TZOFFSETTO:+0100
TZNAME:CET
DTSTART:20241027T010000
END:STANDARD
BEGIN:DAYLIGHT
TZOFFSETFROM:+0100
TZOFFSETTO:+0200
TZNAME:CEST
DTSTART:20250330T010000
END:DAYLIGHT
BEGIN:STANDARD
TZOFFSETFROM:+0200
TZOFFSETTO:+0100
TZNAME:CET
DTSTART:20251026T010000
END:STANDARD
BEGIN:DAYLIGHT
TZOFFSETFROM:+0100
TZOFFSETTO:+0200
TZNAME:CEST
DTSTART:20260329T010000
END:DAYLIGHT
BEGIN:STANDARD
TZOFFSETFROM:+0200
TZOFFSETTO:+0100
TZNAME:CET
DTSTART:20261025T010000
END:STANDARD
END:VTIMEZONE
BEGIN:VEVENT
DTSTART;TZID=Europe/Paris:20250622T153000
DTEND;TZID=Europe/Paris:20250622T170000
DTSTAMP:20260424T224148
CREATED:20250616T090547Z
LAST-MODIFIED:20250616T090622Z
UID:94028-1750606200-1750611600@www.vannes.catholique.fr
SUMMARY:Bieuzy-Lanvaux - Fête-Dieu avec les CPCR à Notre-Dame de Fatima
DESCRIPTION:Les soeurs Coopératrices Paroissiales du Christ-Roi vous invitent à la Fête-Dieu le 22 juin prochain à la maison Notre-Dame de Fatima de Bieuzy-Lanvaux\, dès 15h30. Messe et procession. \n\n\n\nContacts 02 97 56 01 69 contact.bieuzy@cpcrsoeurs.org Maison Notre Dame de Fatima – Soeurs  C.P.C.R. Bieuzy-Lanvaux – 56330 PLUVIGNER
URL:https://www.vannes.catholique.fr/evenement/bieuzy-lanvaux-fete-dieu-avec-les-cpcr-a-notre-dame-de-fatima/
CATEGORIES:Célébrations - Prières
END:VEVENT
END:VCALENDAR