BEGIN:VCALENDAR
VERSION:2.0
PRODID:-//Diocèse de Vannes - ECPv6.15.17//NONSGML v1.0//EN
CALSCALE:GREGORIAN
METHOD:PUBLISH
X-WR-CALNAME:Diocèse de Vannes
X-ORIGINAL-URL:https://www.vannes.catholique.fr
X-WR-CALDESC:Évènements pour Diocèse de Vannes
REFRESH-INTERVAL;VALUE=DURATION:PT1H
X-Robots-Tag:noindex
X-PUBLISHED-TTL:PT1H
BEGIN:VTIMEZONE
TZID:Europe/Paris
BEGIN:DAYLIGHT
TZOFFSETFROM:+0100
TZOFFSETTO:+0200
TZNAME:CEST
DTSTART:20240331T010000
END:DAYLIGHT
BEGIN:STANDARD
TZOFFSETFROM:+0200
TZOFFSETTO:+0100
TZNAME:CET
DTSTART:20241027T010000
END:STANDARD
BEGIN:DAYLIGHT
TZOFFSETFROM:+0100
TZOFFSETTO:+0200
TZNAME:CEST
DTSTART:20250330T010000
END:DAYLIGHT
BEGIN:STANDARD
TZOFFSETFROM:+0200
TZOFFSETTO:+0100
TZNAME:CET
DTSTART:20251026T010000
END:STANDARD
BEGIN:DAYLIGHT
TZOFFSETFROM:+0100
TZOFFSETTO:+0200
TZNAME:CEST
DTSTART:20260329T010000
END:DAYLIGHT
BEGIN:STANDARD
TZOFFSETFROM:+0200
TZOFFSETTO:+0100
TZNAME:CET
DTSTART:20261025T010000
END:STANDARD
END:VTIMEZONE
BEGIN:VEVENT
DTSTART;TZID=Europe/Paris:20250928T143000
DTEND;TZID=Europe/Paris:20250928T180000
DTSTAMP:20260422T021557
CREATED:20250901T155123Z
LAST-MODIFIED:20250901T155123Z
UID:95073-1759069800-1759082400@www.vannes.catholique.fr
SUMMARY:Vannes - Marche sans frontières
DESCRIPTION:Dimanche 28 septembre à 14 h 45 – Maison du Diocèse\, Vannes\nMarche sans frontières : Marche en passant par le port\, vers Kercado (rue Basch et des Vénètes)\, passage par l’église St Vincent Ferrier et\narrivée à la mosquée Arrayane ; accueil avec un goûter partagé. \nmarche56@outlook.fr   –    06 84 24 65 61
URL:https://www.vannes.catholique.fr/evenement/vannes-marche-sans-frontieres/
CATEGORIES:Célébrations - Prières
END:VEVENT
END:VCALENDAR