BEGIN:VCALENDAR
VERSION:2.0
PRODID:-//Diocèse de Vannes - ECPv6.15.17//NONSGML v1.0//EN
CALSCALE:GREGORIAN
METHOD:PUBLISH
X-WR-CALNAME:Diocèse de Vannes
X-ORIGINAL-URL:https://www.vannes.catholique.fr
X-WR-CALDESC:Évènements pour Diocèse de Vannes
REFRESH-INTERVAL;VALUE=DURATION:PT1H
X-Robots-Tag:noindex
X-PUBLISHED-TTL:PT1H
BEGIN:VTIMEZONE
TZID:Europe/Paris
BEGIN:DAYLIGHT
TZOFFSETFROM:+0100
TZOFFSETTO:+0200
TZNAME:CEST
DTSTART:20240331T010000
END:DAYLIGHT
BEGIN:STANDARD
TZOFFSETFROM:+0200
TZOFFSETTO:+0100
TZNAME:CET
DTSTART:20241027T010000
END:STANDARD
BEGIN:DAYLIGHT
TZOFFSETFROM:+0100
TZOFFSETTO:+0200
TZNAME:CEST
DTSTART:20250330T010000
END:DAYLIGHT
BEGIN:STANDARD
TZOFFSETFROM:+0200
TZOFFSETTO:+0100
TZNAME:CET
DTSTART:20251026T010000
END:STANDARD
BEGIN:DAYLIGHT
TZOFFSETFROM:+0100
TZOFFSETTO:+0200
TZNAME:CEST
DTSTART:20260329T010000
END:DAYLIGHT
BEGIN:STANDARD
TZOFFSETFROM:+0200
TZOFFSETTO:+0100
TZNAME:CET
DTSTART:20261025T010000
END:STANDARD
END:VTIMEZONE
BEGIN:VEVENT
DTSTART;TZID=Europe/Paris:20251122T090000
DTEND;TZID=Europe/Paris:20251122T163000
DTSTAMP:20260421T034213
CREATED:20251102T090131Z
LAST-MODIFIED:20251102T090131Z
UID:95985-1763802000-1763829000@www.vannes.catholique.fr
SUMMARY:Journée diocésaine des Fraternités paroissiales missionnaires
DESCRIPTION:Venez recharger vos batteries spirituelles ! Au sanctuaire de Sainte-Anne d’Auray\, samedi 22 novembre. \nEn savoir plus sur le site des fraternités paroissiales missionnaires du diocèse de Vannes \n 
URL:https://www.vannes.catholique.fr/evenement/journee-diocesaine-des-fraternites-paroissiales-missionnaires/
LOCATION:Sanctuaire de Sainte Anne d’Auray
CATEGORIES:Célébrations - Prières,Formations - Réflexions,Retraites - Sessions
END:VEVENT
END:VCALENDAR