BEGIN:VCALENDAR
VERSION:2.0
PRODID:-//Diocèse de Vannes - ECPv6.15.17//NONSGML v1.0//EN
CALSCALE:GREGORIAN
METHOD:PUBLISH
X-WR-CALNAME:Diocèse de Vannes
X-ORIGINAL-URL:https://www.vannes.catholique.fr
X-WR-CALDESC:Évènements pour Diocèse de Vannes
REFRESH-INTERVAL;VALUE=DURATION:PT1H
X-Robots-Tag:noindex
X-PUBLISHED-TTL:PT1H
BEGIN:VTIMEZONE
TZID:Europe/Paris
BEGIN:DAYLIGHT
TZOFFSETFROM:+0100
TZOFFSETTO:+0200
TZNAME:CEST
DTSTART:20240331T010000
END:DAYLIGHT
BEGIN:STANDARD
TZOFFSETFROM:+0200
TZOFFSETTO:+0100
TZNAME:CET
DTSTART:20241027T010000
END:STANDARD
BEGIN:DAYLIGHT
TZOFFSETFROM:+0100
TZOFFSETTO:+0200
TZNAME:CEST
DTSTART:20250330T010000
END:DAYLIGHT
BEGIN:STANDARD
TZOFFSETFROM:+0200
TZOFFSETTO:+0100
TZNAME:CET
DTSTART:20251026T010000
END:STANDARD
BEGIN:DAYLIGHT
TZOFFSETFROM:+0100
TZOFFSETTO:+0200
TZNAME:CEST
DTSTART:20260329T010000
END:DAYLIGHT
BEGIN:STANDARD
TZOFFSETFROM:+0200
TZOFFSETTO:+0100
TZNAME:CET
DTSTART:20261025T010000
END:STANDARD
END:VTIMEZONE
BEGIN:VEVENT
DTSTART;VALUE=DATE:20251208
DTEND;VALUE=DATE:20251209
DTSTAMP:20260420T144645
CREATED:20251205T130224Z
LAST-MODIFIED:20251205T130335Z
UID:96718-1765152000-1765238399@www.vannes.catholique.fr
SUMMARY:Solennité de l'Immaculée Conception
DESCRIPTION:« Je te salue\, Comblée-de-grâce\, le Seigneur est avec toi » (Lc 1\, 26-38). \nDans toutes les paroisses du diocèse\, vivez la solennité de l’Immaculée Conception de la Bienheureuse Vierge Marie. \nA Vannes\, Sainte-Anne d’Auray\, Josselin\, … rejoignez en soirée les processions aux flambeaux proposées ! \nEn savoir plus
URL:https://www.vannes.catholique.fr/evenement/solennite-de-limmaculee-conception/
CATEGORIES:Célébrations - Prières
END:VEVENT
END:VCALENDAR