BEGIN:VCALENDAR
VERSION:2.0
PRODID:-//Diocèse de Vannes - ECPv6.15.17//NONSGML v1.0//EN
CALSCALE:GREGORIAN
METHOD:PUBLISH
X-ORIGINAL-URL:https://www.vannes.catholique.fr
X-WR-CALDESC:Évènements pour Diocèse de Vannes
REFRESH-INTERVAL;VALUE=DURATION:PT1H
X-Robots-Tag:noindex
X-PUBLISHED-TTL:PT1H
BEGIN:VTIMEZONE
TZID:Europe/Paris
BEGIN:DAYLIGHT
TZOFFSETFROM:+0100
TZOFFSETTO:+0200
TZNAME:CEST
DTSTART:20240331T010000
END:DAYLIGHT
BEGIN:STANDARD
TZOFFSETFROM:+0200
TZOFFSETTO:+0100
TZNAME:CET
DTSTART:20241027T010000
END:STANDARD
BEGIN:DAYLIGHT
TZOFFSETFROM:+0100
TZOFFSETTO:+0200
TZNAME:CEST
DTSTART:20250330T010000
END:DAYLIGHT
BEGIN:STANDARD
TZOFFSETFROM:+0200
TZOFFSETTO:+0100
TZNAME:CET
DTSTART:20251026T010000
END:STANDARD
BEGIN:DAYLIGHT
TZOFFSETFROM:+0100
TZOFFSETTO:+0200
TZNAME:CEST
DTSTART:20260329T010000
END:DAYLIGHT
BEGIN:STANDARD
TZOFFSETFROM:+0200
TZOFFSETTO:+0100
TZNAME:CET
DTSTART:20261025T010000
END:STANDARD
END:VTIMEZONE
BEGIN:VEVENT
DTSTART;VALUE=DATE:20251226
DTEND;VALUE=DATE:20260101
DTSTAMP:20260420T024535
CREATED:20251220T092907Z
LAST-MODIFIED:20251220T101637Z
UID:96827-1766707200-1767225599@www.vannes.catholique.fr
SUMMARY:Bieuzy Lanvaux - Retraite selon les exercices spirituels de Saint Ignace
DESCRIPTION:Du 26 au 31 décembre 2025\, les CPCR (Coopératrices paroissiales du Christ-Roi) proposent aux hommes et jeunes gens une retraite selon les exercices spirituels de Saint Ignace à la Maison Notre-Dame de Fatima\, Bieuzy-Lanvaux (Pluvigner). \nEn savoir plus \ncontact.bieuzy@cpcrsoeurs.org\n02 97 56 01 69 \n 
URL:https://www.vannes.catholique.fr/evenement/bieuzy-lanvaux-retraite-selon-les-exercices-spirituels-de-saint-ignace/
LOCATION:Maison Notre Dame de Fatima\, Bieuzy Lanvaux\, Pluvigner\, 56330\, France
CATEGORIES:Célébrations - Prières,Retraites - Sessions
END:VEVENT
END:VCALENDAR