BEGIN:VCALENDAR
VERSION:2.0
PRODID:-//Diocèse de Vannes - ECPv6.15.17//NONSGML v1.0//EN
CALSCALE:GREGORIAN
METHOD:PUBLISH
X-ORIGINAL-URL:https://www.vannes.catholique.fr
X-WR-CALDESC:Évènements pour Diocèse de Vannes
REFRESH-INTERVAL;VALUE=DURATION:PT1H
X-Robots-Tag:noindex
X-PUBLISHED-TTL:PT1H
BEGIN:VTIMEZONE
TZID:Europe/Paris
BEGIN:DAYLIGHT
TZOFFSETFROM:+0100
TZOFFSETTO:+0200
TZNAME:CEST
DTSTART:20230326T010000
END:DAYLIGHT
BEGIN:STANDARD
TZOFFSETFROM:+0200
TZOFFSETTO:+0100
TZNAME:CET
DTSTART:20231029T010000
END:STANDARD
BEGIN:DAYLIGHT
TZOFFSETFROM:+0100
TZOFFSETTO:+0200
TZNAME:CEST
DTSTART:20240331T010000
END:DAYLIGHT
BEGIN:STANDARD
TZOFFSETFROM:+0200
TZOFFSETTO:+0100
TZNAME:CET
DTSTART:20241027T010000
END:STANDARD
BEGIN:DAYLIGHT
TZOFFSETFROM:+0100
TZOFFSETTO:+0200
TZNAME:CEST
DTSTART:20250330T010000
END:DAYLIGHT
BEGIN:STANDARD
TZOFFSETFROM:+0200
TZOFFSETTO:+0100
TZNAME:CET
DTSTART:20251026T010000
END:STANDARD
END:VTIMEZONE
BEGIN:VEVENT
DTSTART;TZID=Europe/Paris:20240919T200000
DTEND;TZID=Europe/Paris:20240919T230000
DTSTAMP:20260423T143000
CREATED:20240903T124906Z
LAST-MODIFIED:20240904T115837Z
UID:90526-1726776000-1726786800@www.vannes.catholique.fr
SUMMARY:Diffusion du film « Miracles » à la maison du diocèse
DESCRIPTION:Le jeudi 19 septembre 2024 à 20h00\, l’Espace Montcalm à Vannes accueillera la projection du film « Miracle ». Cet événement gratuit\, organisé par l’Association Maria Valtorta\, est une occasion unique de plonger dans des mystères qui défient la science.\n\n \n\nLe film « Miracle »\, avec la participation d’Arnaud Lefèvre\, acteur du film\, explore trois énigmes fascinantes. Tout d’abord\, il s’intéresse au linceul de Turin\, la relique la plus étudiée au monde\, un objet qui continue de susciter des débats passionnés parmi les scientifiques. Ensuite\, le film examine l’image d’une femme enceinte\, imprimée sur une tunique au XVIe siècle\, un phénomène resté inexpliqué (Notre-Dame de Guadalupe). Enfin\, il plonge dans des textes mystiques de Maria Valtorta\, d’une portée exceptionnelle\, défiant les records de la littérature mondiale.\n\n \n\nL’événement se déroulera dans la salle 15 de l’Espace Montcalm\, située au 55 rue Monseigneur Tréhiou\, à Vannes. Une participation libre aux frais sera proposée\, permettant à chacun de contribuer selon ses moyens. Un espace librairie sera également sur place\, proposant les dernières nouveautés.\n\n \n\nPour plus d’informations\, contactez le 06 16 40 94 18 ou l’association à l’adresse email associationmariavaltorta@gmail.com. Ne manquez pas cette soirée unique pour explorer les « Miracle » à Vannes.\n\n\n\n\n\nRegarder la bande-annonce du film
URL:https://www.vannes.catholique.fr/evenement/diffusion-du-film-miracles/
LOCATION:Maison du diocèse – Espace Montcalm\, 55 rue Mgr Tréhiou - CS 92241\, Vannes\, 56007\, France
CATEGORIES:Concerts - Spectacles - Fêtes - Film
ORGANIZER;CN="Association Maria Valtorta":MAILTO:associationmariavaltorta@gmail.com
END:VEVENT
BEGIN:VEVENT
DTSTART;TZID=Europe/Paris:20240927T200000
DTEND;TZID=Europe/Paris:20240927T220000
DTSTAMP:20260423T143000
CREATED:20240913T073156Z
LAST-MODIFIED:20240913T073156Z
UID:90800-1727467200-1727474400@www.vannes.catholique.fr
SUMMARY:Concert Sonates pour flûte et clavecin de J-S Bach et de ses fils
DESCRIPTION:Tarifs : 12 €\, réduit : 8 €\, gratuit pour les moins de 12 ans. Vendredi 27 septembre à 20 h à l’église St Pierre de Pénerf.
URL:https://www.vannes.catholique.fr/evenement/concert-sonates-pour-flute-et-clavecin-de-j-s-bach-et-de-ses-fils/
CATEGORIES:Concerts - Spectacles - Fêtes - Film
END:VEVENT
END:VCALENDAR