BEGIN:VCALENDAR
VERSION:2.0
PRODID:-//Diocèse de Vannes - ECPv6.15.17//NONSGML v1.0//EN
CALSCALE:GREGORIAN
METHOD:PUBLISH
X-ORIGINAL-URL:https://www.vannes.catholique.fr
X-WR-CALDESC:Évènements pour Diocèse de Vannes
REFRESH-INTERVAL;VALUE=DURATION:PT1H
X-Robots-Tag:noindex
X-PUBLISHED-TTL:PT1H
BEGIN:VTIMEZONE
TZID:Europe/Paris
BEGIN:DAYLIGHT
TZOFFSETFROM:+0100
TZOFFSETTO:+0200
TZNAME:CEST
DTSTART:20240331T010000
END:DAYLIGHT
BEGIN:STANDARD
TZOFFSETFROM:+0200
TZOFFSETTO:+0100
TZNAME:CET
DTSTART:20241027T010000
END:STANDARD
BEGIN:DAYLIGHT
TZOFFSETFROM:+0100
TZOFFSETTO:+0200
TZNAME:CEST
DTSTART:20250330T010000
END:DAYLIGHT
BEGIN:STANDARD
TZOFFSETFROM:+0200
TZOFFSETTO:+0100
TZNAME:CET
DTSTART:20251026T010000
END:STANDARD
BEGIN:DAYLIGHT
TZOFFSETFROM:+0100
TZOFFSETTO:+0200
TZNAME:CEST
DTSTART:20260329T010000
END:DAYLIGHT
BEGIN:STANDARD
TZOFFSETFROM:+0200
TZOFFSETTO:+0100
TZNAME:CET
DTSTART:20261025T010000
END:STANDARD
END:VTIMEZONE
BEGIN:VEVENT
DTSTART;TZID=Europe/Paris:20250607T203000
DTEND;TZID=Europe/Paris:20250607T203000
DTSTAMP:20260419T235539
CREATED:20250602T105509Z
LAST-MODIFIED:20250602T105530Z
UID:93849-1749328200-1749328200@www.vannes.catholique.fr
SUMMARY:Oratorio "La Dame mystérieuse" - Sainte Anne d'Auray
DESCRIPTION:Oratorio en l’honneur de sainte Anne\, par l’Académie de musique et d’art sacré (Admas)\, en partenariat avec l’Orchestre national de Bretagne et l’opéra de Rennes. Cette œuvre musicale retrace en 14 tableaux l’histoire des apparitions de sainte Anne. \nSamedi 7 juin\, à 20h30 – Basilique de Sainte-Anne-d’Auray\nEn savoir plus
URL:https://www.vannes.catholique.fr/evenement/oratorio-la-dame-mysterieuse-sainte-anne-dauray/
LOCATION:Sanctuaire de Sainte Anne d’Auray
CATEGORIES:Concerts - Spectacles - Fêtes - Film
END:VEVENT
END:VCALENDAR