BEGIN:VCALENDAR
VERSION:2.0
PRODID:-//Diocèse de Vannes - ECPv6.15.17//NONSGML v1.0//EN
CALSCALE:GREGORIAN
METHOD:PUBLISH
X-WR-CALNAME:Diocèse de Vannes
X-ORIGINAL-URL:https://www.vannes.catholique.fr
X-WR-CALDESC:Évènements pour Diocèse de Vannes
REFRESH-INTERVAL;VALUE=DURATION:PT1H
X-Robots-Tag:noindex
X-PUBLISHED-TTL:PT1H
BEGIN:VTIMEZONE
TZID:Europe/Paris
BEGIN:DAYLIGHT
TZOFFSETFROM:+0100
TZOFFSETTO:+0200
TZNAME:CEST
DTSTART:20230326T010000
END:DAYLIGHT
BEGIN:STANDARD
TZOFFSETFROM:+0200
TZOFFSETTO:+0100
TZNAME:CET
DTSTART:20231029T010000
END:STANDARD
BEGIN:DAYLIGHT
TZOFFSETFROM:+0100
TZOFFSETTO:+0200
TZNAME:CEST
DTSTART:20240331T010000
END:DAYLIGHT
BEGIN:STANDARD
TZOFFSETFROM:+0200
TZOFFSETTO:+0100
TZNAME:CET
DTSTART:20241027T010000
END:STANDARD
BEGIN:DAYLIGHT
TZOFFSETFROM:+0100
TZOFFSETTO:+0200
TZNAME:CEST
DTSTART:20250330T010000
END:DAYLIGHT
BEGIN:STANDARD
TZOFFSETFROM:+0200
TZOFFSETTO:+0100
TZNAME:CET
DTSTART:20251026T010000
END:STANDARD
END:VTIMEZONE
BEGIN:VEVENT
DTSTART;VALUE=DATE:20240903
DTEND;VALUE=DATE:20240904
DTSTAMP:20260425T175149
CREATED:20240827T123933Z
LAST-MODIFIED:20240827T123933Z
UID:90409-1725321600-1725407999@www.vannes.catholique.fr
SUMMARY:Conseil épiscopal long
DESCRIPTION:
URL:https://www.vannes.catholique.fr/evenement/conseil-episcopal-long-2/
CATEGORIES:Evêque
END:VEVENT
BEGIN:VEVENT
DTSTART;VALUE=DATE:20240904
DTEND;VALUE=DATE:20240905
DTSTAMP:20260425T175149
CREATED:20240827T124043Z
LAST-MODIFIED:20240827T124043Z
UID:90413-1725408000-1725494399@www.vannes.catholique.fr
SUMMARY:Conseil épiscopal long
DESCRIPTION:
URL:https://www.vannes.catholique.fr/evenement/conseil-episcopal-long-4/
CATEGORIES:Evêque
END:VEVENT
BEGIN:VEVENT
DTSTART;VALUE=DATE:20240907
DTEND;VALUE=DATE:20240908
DTSTAMP:20260425T175149
CREATED:20240827T125551Z
LAST-MODIFIED:20240827T125551Z
UID:90416-1725667200-1725753599@www.vannes.catholique.fr
SUMMARY:Rentrée diocésaine à Sainte-Anne-d’Auray
DESCRIPTION:
URL:https://www.vannes.catholique.fr/evenement/rentree-diocesaine-a-sainte-anne-dauray/
LOCATION:Sanctuaire de Sainte Anne d’Auray
CATEGORIES:Evêque
END:VEVENT
BEGIN:VEVENT
DTSTART;VALUE=DATE:20240907
DTEND;VALUE=DATE:20240908
DTSTAMP:20260425T175149
CREATED:20240827T125700Z
LAST-MODIFIED:20240903T091250Z
UID:90418-1725667200-1725753599@www.vannes.catholique.fr
SUMMARY:Pardon de ND du roncier à Josselin
DESCRIPTION:
URL:https://www.vannes.catholique.fr/evenement/pardon-de-nd-du-roncier-a-josselin/
CATEGORIES:Evêque,Pardons
END:VEVENT
BEGIN:VEVENT
DTSTART;TZID=Europe/Paris:20240908T080000
DTEND;TZID=Europe/Paris:20240908T170000
DTSTAMP:20260425T175149
CREATED:20240827T125745Z
LAST-MODIFIED:20240827T125745Z
UID:90420-1725782400-1725814800@www.vannes.catholique.fr
SUMMARY:Pardon de ND du roncier à Josselin
DESCRIPTION:
URL:https://www.vannes.catholique.fr/evenement/pardon-de-nd-du-roncier-a-josselin-2/
LOCATION:Sanctuaire Notre-Dame du Roncier\, Josselin
CATEGORIES:Evêque
END:VEVENT
BEGIN:VEVENT
DTSTART;VALUE=DATE:20240911
DTEND;VALUE=DATE:20240912
DTSTAMP:20260425T175149
CREATED:20240827T125841Z
LAST-MODIFIED:20240827T125841Z
UID:90422-1726012800-1726099199@www.vannes.catholique.fr
SUMMARY:Conseil épiscopal
DESCRIPTION:
URL:https://www.vannes.catholique.fr/evenement/conseil-episcopal-51/
CATEGORIES:Evêque
END:VEVENT
BEGIN:VEVENT
DTSTART;VALUE=DATE:20240912
DTEND;VALUE=DATE:20240913
DTSTAMP:20260425T175149
CREATED:20240827T125944Z
LAST-MODIFIED:20240827T125944Z
UID:90424-1726099200-1726185599@www.vannes.catholique.fr
SUMMARY:Rencontre avec l’équipe de travail Denier et Ressources du diocèse
DESCRIPTION:
URL:https://www.vannes.catholique.fr/evenement/rencontre-avec-lequipe-de-travail-denier-et-ressources-du-diocese/
CATEGORIES:Evêque
END:VEVENT
BEGIN:VEVENT
DTSTART;VALUE=DATE:20240918
DTEND;VALUE=DATE:20240919
DTSTAMP:20260425T175149
CREATED:20240827T130339Z
LAST-MODIFIED:20240827T130339Z
UID:90428-1726617600-1726703999@www.vannes.catholique.fr
SUMMARY:Conseil épiscopal
DESCRIPTION:
URL:https://www.vannes.catholique.fr/evenement/conseil-episcopal-52/
CATEGORIES:Evêque
END:VEVENT
BEGIN:VEVENT
DTSTART;TZID=Europe/Paris:20240921T080000
DTEND;TZID=Europe/Paris:20240921T170000
DTSTAMP:20260425T175149
CREATED:20240827T130453Z
LAST-MODIFIED:20240827T130453Z
UID:90430-1726905600-1726938000@www.vannes.catholique.fr
SUMMARY:Route mariale (début)
DESCRIPTION:Du 21 au 29 septembre : route mariale
URL:https://www.vannes.catholique.fr/evenement/route-mariale-debut/
CATEGORIES:Evêque
END:VEVENT
BEGIN:VEVENT
DTSTART;VALUE=DATE:20240929
DTEND;VALUE=DATE:20240930
DTSTAMP:20260425T175149
CREATED:20240827T130543Z
LAST-MODIFIED:20240827T130543Z
UID:90432-1727568000-1727654399@www.vannes.catholique.fr
SUMMARY:Route mariale (fin)
DESCRIPTION:Du 21 au 29 septembre : route mariale
URL:https://www.vannes.catholique.fr/evenement/route-mariale-fin/
CATEGORIES:Evêque
END:VEVENT
END:VCALENDAR