BEGIN:VCALENDAR
VERSION:2.0
PRODID:-//Diocèse de Vannes - ECPv6.15.17//NONSGML v1.0//EN
CALSCALE:GREGORIAN
METHOD:PUBLISH
X-WR-CALNAME:Diocèse de Vannes
X-ORIGINAL-URL:https://www.vannes.catholique.fr
X-WR-CALDESC:Évènements pour Diocèse de Vannes
REFRESH-INTERVAL;VALUE=DURATION:PT1H
X-Robots-Tag:noindex
X-PUBLISHED-TTL:PT1H
BEGIN:VTIMEZONE
TZID:Europe/Paris
BEGIN:DAYLIGHT
TZOFFSETFROM:+0100
TZOFFSETTO:+0200
TZNAME:CEST
DTSTART:20240331T010000
END:DAYLIGHT
BEGIN:STANDARD
TZOFFSETFROM:+0200
TZOFFSETTO:+0100
TZNAME:CET
DTSTART:20241027T010000
END:STANDARD
BEGIN:DAYLIGHT
TZOFFSETFROM:+0100
TZOFFSETTO:+0200
TZNAME:CEST
DTSTART:20250330T010000
END:DAYLIGHT
BEGIN:STANDARD
TZOFFSETFROM:+0200
TZOFFSETTO:+0100
TZNAME:CET
DTSTART:20251026T010000
END:STANDARD
BEGIN:DAYLIGHT
TZOFFSETFROM:+0100
TZOFFSETTO:+0200
TZNAME:CEST
DTSTART:20260329T010000
END:DAYLIGHT
BEGIN:STANDARD
TZOFFSETFROM:+0200
TZOFFSETTO:+0100
TZNAME:CET
DTSTART:20261025T010000
END:STANDARD
END:VTIMEZONE
BEGIN:VEVENT
DTSTART;TZID=Europe/Paris:20250303T080000
DTEND;TZID=Europe/Paris:20250303T170000
DTSTAMP:20260424T200412
CREATED:20250303T125032Z
LAST-MODIFIED:20250303T125032Z
UID:92615-1740988800-1741021200@www.vannes.catholique.fr
SUMMARY:bénédiction des cloches à Pluméliau
DESCRIPTION:
URL:https://www.vannes.catholique.fr/evenement/benediction-des-cloches-a-plumeliau/
CATEGORIES:Evêque
END:VEVENT
BEGIN:VEVENT
DTSTART;VALUE=DATE:20250305
DTEND;VALUE=DATE:20250306
DTSTAMP:20260424T200412
CREATED:20250303T124535Z
LAST-MODIFIED:20250303T124535Z
UID:92603-1741132800-1741219199@www.vannes.catholique.fr
SUMMARY:Conseil épiscopal
DESCRIPTION:
URL:https://www.vannes.catholique.fr/evenement/conseil-episcopal-53/
CATEGORIES:Evêque
END:VEVENT
BEGIN:VEVENT
DTSTART;VALUE=DATE:20250306
DTEND;VALUE=DATE:20250307
DTSTAMP:20260424T200412
CREATED:20250303T124609Z
LAST-MODIFIED:20250303T124609Z
UID:92605-1741219200-1741305599@www.vannes.catholique.fr
SUMMARY:Commission diocésaine d’art sacré
DESCRIPTION:
URL:https://www.vannes.catholique.fr/evenement/commission-diocesaine-dart-sacre-2/
CATEGORIES:Evêque
END:VEVENT
BEGIN:VEVENT
DTSTART;VALUE=DATE:20250307
DTEND;VALUE=DATE:20250308
DTSTAMP:20260424T200412
CREATED:20250303T124155Z
LAST-MODIFIED:20250303T124708Z
UID:92598-1741305600-1741391999@www.vannes.catholique.fr
SUMMARY:700e anniversaire de la statue de Sainte Anne
DESCRIPTION:À partir de 9 h 45 à la maison de Nicolazic.\nBénédiction de la nouvelle bannière\,\nprocession\, messe\, bénédiction de la\nstatue\, départ de la Troménie\, chapelet\,\nvêpres solennelles.
URL:https://www.vannes.catholique.fr/evenement/700e-anniversaire-de-la-statue-de-sainte-anne/
LOCATION:Sanctuaire de Sainte Anne d’Auray
CATEGORIES:Célébrations - Prières,Evêque
END:VEVENT
BEGIN:VEVENT
DTSTART;VALUE=DATE:20250312
DTEND;VALUE=DATE:20250313
DTSTAMP:20260424T200412
CREATED:20250303T124841Z
LAST-MODIFIED:20250303T124841Z
UID:92609-1741737600-1741823999@www.vannes.catholique.fr
SUMMARY:Conseil épiscopal élargi
DESCRIPTION:
URL:https://www.vannes.catholique.fr/evenement/conseil-episcopal-elargi-8/
CATEGORIES:Evêque
END:VEVENT
BEGIN:VEVENT
DTSTART;VALUE=DATE:20250313
DTEND;VALUE=DATE:20250314
DTSTAMP:20260424T200412
CREATED:20250303T124925Z
LAST-MODIFIED:20250303T124925Z
UID:92611-1741824000-1741910399@www.vannes.catholique.fr
SUMMARY:Récollection de Carême
DESCRIPTION:
URL:https://www.vannes.catholique.fr/evenement/recollection-de-careme-2/
CATEGORIES:Evêque
END:VEVENT
BEGIN:VEVENT
DTSTART;VALUE=DATE:20250314
DTEND;VALUE=DATE:20250315
DTSTAMP:20260424T200412
CREATED:20250303T125005Z
LAST-MODIFIED:20250303T125005Z
UID:92613-1741910400-1741996799@www.vannes.catholique.fr
SUMMARY:Conseil de tutelle de l’Enseignement Catholique
DESCRIPTION:
URL:https://www.vannes.catholique.fr/evenement/conseil-de-tutelle-de-lenseignement-catholique-9/
CATEGORIES:Evêque
END:VEVENT
BEGIN:VEVENT
DTSTART;VALUE=DATE:20250314
DTEND;VALUE=DATE:20250315
DTSTAMP:20260424T200412
CREATED:20250303T125121Z
LAST-MODIFIED:20250303T125121Z
UID:92617-1741910400-1741996799@www.vannes.catholique.fr
SUMMARY:bénédiction des cloches à Pluméliau
DESCRIPTION:
URL:https://www.vannes.catholique.fr/evenement/benediction-des-cloches-a-plumeliau-2/
CATEGORIES:Evêque
END:VEVENT
BEGIN:VEVENT
DTSTART;VALUE=DATE:20250319
DTEND;VALUE=DATE:20250320
DTSTAMP:20260424T200412
CREATED:20250303T125202Z
LAST-MODIFIED:20250303T125202Z
UID:92620-1742342400-1742428799@www.vannes.catholique.fr
SUMMARY:Conseil épiscopal
DESCRIPTION:
URL:https://www.vannes.catholique.fr/evenement/conseil-episcopal-54/
CATEGORIES:Evêque
END:VEVENT
BEGIN:VEVENT
DTSTART;VALUE=DATE:20250326
DTEND;VALUE=DATE:20250327
DTSTAMP:20260424T200412
CREATED:20250303T125223Z
LAST-MODIFIED:20250303T125223Z
UID:92622-1742947200-1743033599@www.vannes.catholique.fr
SUMMARY:Conseil épiscopal
DESCRIPTION:
URL:https://www.vannes.catholique.fr/evenement/conseil-episcopal-55/
CATEGORIES:Evêque
END:VEVENT
BEGIN:VEVENT
DTSTART;VALUE=DATE:20250328
DTEND;VALUE=DATE:20250329
DTSTAMP:20260424T200412
CREATED:20250303T125254Z
LAST-MODIFIED:20250303T125254Z
UID:92624-1743120000-1743206399@www.vannes.catholique.fr
SUMMARY:conseil de tutelle de l’enseignement catholique
DESCRIPTION:
URL:https://www.vannes.catholique.fr/evenement/conseil-de-tutelle-de-lenseignement-catholique-10/
CATEGORIES:Evêque
END:VEVENT
BEGIN:VEVENT
DTSTART;TZID=Europe/Paris:20250331T080000
DTEND;TZID=Europe/Paris:20250404T170000
DTSTAMP:20260424T200412
CREATED:20250303T125400Z
LAST-MODIFIED:20250303T125400Z
UID:92626-1743408000-1743786000@www.vannes.catholique.fr
SUMMARY:Assemblée plénière des évêques  à Lourdes
DESCRIPTION:
URL:https://www.vannes.catholique.fr/evenement/assemblee-pleniere-des-eveques-a-lourdes/
CATEGORIES:Evêque
END:VEVENT
END:VCALENDAR