BEGIN:VCALENDAR
VERSION:2.0
PRODID:-//Diocèse de Vannes - ECPv6.15.17//NONSGML v1.0//EN
CALSCALE:GREGORIAN
METHOD:PUBLISH
X-WR-CALNAME:Diocèse de Vannes
X-ORIGINAL-URL:https://www.vannes.catholique.fr
X-WR-CALDESC:Évènements pour Diocèse de Vannes
REFRESH-INTERVAL;VALUE=DURATION:PT1H
X-Robots-Tag:noindex
X-PUBLISHED-TTL:PT1H
BEGIN:VTIMEZONE
TZID:Europe/Paris
BEGIN:DAYLIGHT
TZOFFSETFROM:+0100
TZOFFSETTO:+0200
TZNAME:CEST
DTSTART:20240331T010000
END:DAYLIGHT
BEGIN:STANDARD
TZOFFSETFROM:+0200
TZOFFSETTO:+0100
TZNAME:CET
DTSTART:20241027T010000
END:STANDARD
BEGIN:DAYLIGHT
TZOFFSETFROM:+0100
TZOFFSETTO:+0200
TZNAME:CEST
DTSTART:20250330T010000
END:DAYLIGHT
BEGIN:STANDARD
TZOFFSETFROM:+0200
TZOFFSETTO:+0100
TZNAME:CET
DTSTART:20251026T010000
END:STANDARD
BEGIN:DAYLIGHT
TZOFFSETFROM:+0100
TZOFFSETTO:+0200
TZNAME:CEST
DTSTART:20260329T010000
END:DAYLIGHT
BEGIN:STANDARD
TZOFFSETFROM:+0200
TZOFFSETTO:+0100
TZNAME:CET
DTSTART:20261025T010000
END:STANDARD
END:VTIMEZONE
BEGIN:VEVENT
DTSTART;TZID=Europe/Paris:20250331T080000
DTEND;TZID=Europe/Paris:20250404T170000
DTSTAMP:20260424T184242
CREATED:20250303T125400Z
LAST-MODIFIED:20250303T125400Z
UID:92626-1743408000-1743786000@www.vannes.catholique.fr
SUMMARY:Assemblée plénière des évêques  à Lourdes
DESCRIPTION:
URL:https://www.vannes.catholique.fr/evenement/assemblee-pleniere-des-eveques-a-lourdes/
CATEGORIES:Evêque
END:VEVENT
BEGIN:VEVENT
DTSTART;VALUE=DATE:20250409
DTEND;VALUE=DATE:20250410
DTSTAMP:20260424T184242
CREATED:20250401T103019Z
LAST-MODIFIED:20250401T103019Z
UID:92973-1744156800-1744243199@www.vannes.catholique.fr
SUMMARY:Conseil épiscopal
DESCRIPTION:
URL:https://www.vannes.catholique.fr/evenement/conseil-episcopal-56/
CATEGORIES:Evêque
END:VEVENT
BEGIN:VEVENT
DTSTART;TZID=Europe/Paris:20250410T080000
DTEND;TZID=Europe/Paris:20250410T170000
DTSTAMP:20260424T184242
CREATED:20250401T103122Z
LAST-MODIFIED:20250401T103230Z
UID:92975-1744272000-1744304400@www.vannes.catholique.fr
SUMMARY:Notifications des confirmands adultes
DESCRIPTION:
URL:https://www.vannes.catholique.fr/evenement/notification-des-confirmands-adultes/
CATEGORIES:Evêque
END:VEVENT
BEGIN:VEVENT
DTSTART;TZID=Europe/Paris:20250413T104500
DTEND;TZID=Europe/Paris:20250413T123000
DTSTAMP:20260424T184242
CREATED:20250401T103611Z
LAST-MODIFIED:20250401T104716Z
UID:92978-1744541100-1744547400@www.vannes.catholique.fr
SUMMARY:Messe des Rameaux - paroisse cathédrale
DESCRIPTION:Chapelle du Collège-Lycée saint-François-Xavier à 11h. Bénédiction des Rameaux à 10h45.
URL:https://www.vannes.catholique.fr/evenement/messe-des-rameaux-paroisse-cathedrale/
CATEGORIES:Evêque
END:VEVENT
BEGIN:VEVENT
DTSTART;TZID=Europe/Paris:20250415T103000
DTEND;TZID=Europe/Paris:20250415T120000
DTSTAMP:20260424T184242
CREATED:20250401T103751Z
LAST-MODIFIED:20250401T103751Z
UID:92980-1744713000-1744718400@www.vannes.catholique.fr
SUMMARY:Messe chrismale à Sainte-Anne d'Auray
DESCRIPTION:
URL:https://www.vannes.catholique.fr/evenement/messe-chrismale-a-sainte-anne-dauray/
CATEGORIES:Célébrations - Prières,Evêque
END:VEVENT
BEGIN:VEVENT
DTSTART;VALUE=DATE:20250416
DTEND;VALUE=DATE:20250417
DTSTAMP:20260424T184242
CREATED:20250401T103839Z
LAST-MODIFIED:20250401T103839Z
UID:92982-1744761600-1744847999@www.vannes.catholique.fr
SUMMARY:Conseil épiscopal
DESCRIPTION:
URL:https://www.vannes.catholique.fr/evenement/conseil-episcopal-57/
CATEGORIES:Evêque
END:VEVENT
BEGIN:VEVENT
DTSTART;TZID=Europe/Paris:20250417T200000
DTEND;TZID=Europe/Paris:20250417T210000
DTSTAMP:20260424T184242
CREATED:20250401T104308Z
LAST-MODIFIED:20250401T104308Z
UID:92984-1744920000-1744923600@www.vannes.catholique.fr
SUMMARY:Célébration de la Cène - paroisse cathédrale de Vannes
DESCRIPTION:Chapelle du collège-Lycée Saint-François-Xavier à 20h
URL:https://www.vannes.catholique.fr/evenement/celebration-de-la-cene-paroisse-cathedrale-de-vannes/
CATEGORIES:Evêque
END:VEVENT
BEGIN:VEVENT
DTSTART;TZID=Europe/Paris:20250418T190000
DTEND;TZID=Europe/Paris:20250418T210000
DTSTAMP:20260424T184242
CREATED:20250401T104604Z
LAST-MODIFIED:20250401T104604Z
UID:92987-1745002800-1745010000@www.vannes.catholique.fr
SUMMARY:Chemin de Croix puis célébration de la Passion\, paroisse cathédrale
DESCRIPTION:Chapelle Collège-Lycée Saint-François-Xavier\, chemin de croix à 19h suivi de la célébration de la Passion
URL:https://www.vannes.catholique.fr/evenement/chemin-de-croix-puis-celebration-de-la-passion-paroisse-cathedrale/
CATEGORIES:Evêque
END:VEVENT
BEGIN:VEVENT
DTSTART;TZID=Europe/Paris:20250419T200000
DTEND;TZID=Europe/Paris:20250419T213000
DTSTAMP:20260424T184242
CREATED:20250401T105150Z
LAST-MODIFIED:20250401T105150Z
UID:92990-1745092800-1745098200@www.vannes.catholique.fr
SUMMARY:Vigile Pascale - paroisse cathédrale
DESCRIPTION:
URL:https://www.vannes.catholique.fr/evenement/vigile-pascale-paroisse-cathedrale/
CATEGORIES:Evêque
END:VEVENT
BEGIN:VEVENT
DTSTART;VALUE=DATE:20250423
DTEND;VALUE=DATE:20250424
DTSTAMP:20260424T184242
CREATED:20250401T105243Z
LAST-MODIFIED:20250401T105243Z
UID:92992-1745366400-1745452799@www.vannes.catholique.fr
SUMMARY:Conseil épiscopal
DESCRIPTION:
URL:https://www.vannes.catholique.fr/evenement/conseil-episcopal-58/
CATEGORIES:Evêque
END:VEVENT
BEGIN:VEVENT
DTSTART;VALUE=DATE:20250425
DTEND;VALUE=DATE:20250426
DTSTAMP:20260424T184242
CREATED:20250401T105337Z
LAST-MODIFIED:20250401T105337Z
UID:92995-1745539200-1745625599@www.vannes.catholique.fr
SUMMARY:Conseil de tutelle de l’Enseignement catholique du Morbihan
DESCRIPTION:
URL:https://www.vannes.catholique.fr/evenement/conseil-de-tutelle-de-lenseignement-catholique-du-morbihan/
CATEGORIES:Evêque
END:VEVENT
BEGIN:VEVENT
DTSTART;VALUE=DATE:20250427
DTEND;VALUE=DATE:20250428
DTSTAMP:20260424T184242
CREATED:20250401T105419Z
LAST-MODIFIED:20250401T105419Z
UID:92997-1745712000-1745798399@www.vannes.catholique.fr
SUMMARY:Journée des néophytes
DESCRIPTION:
URL:https://www.vannes.catholique.fr/evenement/journee-des-neophytes-2/
CATEGORIES:Evêque
END:VEVENT
BEGIN:VEVENT
DTSTART;TZID=Europe/Paris:20250429T080000
DTEND;TZID=Europe/Paris:20250429T170000
DTSTAMP:20260424T184242
CREATED:20250401T105507Z
LAST-MODIFIED:20250428T114238Z
UID:92999-1745913600-1745946000@www.vannes.catholique.fr
SUMMARY:Bénédiction Maison Thérèse\, Vannes
DESCRIPTION:
URL:https://www.vannes.catholique.fr/evenement/benediction-maison-sainte-therese-vannes/
CATEGORIES:Evêque
END:VEVENT
BEGIN:VEVENT
DTSTART;VALUE=DATE:20250430
DTEND;VALUE=DATE:20250501
DTSTAMP:20260424T184242
CREATED:20250401T105547Z
LAST-MODIFIED:20250401T105547Z
UID:93001-1745971200-1746057599@www.vannes.catholique.fr
SUMMARY:Conseil épiscopal élargi
DESCRIPTION:
URL:https://www.vannes.catholique.fr/evenement/conseil-episcopal-elargi-9/
CATEGORIES:Evêque
END:VEVENT
END:VCALENDAR