BEGIN:VCALENDAR
VERSION:2.0
PRODID:-//Diocèse de Vannes - ECPv6.15.17//NONSGML v1.0//EN
CALSCALE:GREGORIAN
METHOD:PUBLISH
X-WR-CALNAME:Diocèse de Vannes
X-ORIGINAL-URL:https://www.vannes.catholique.fr
X-WR-CALDESC:Évènements pour Diocèse de Vannes
REFRESH-INTERVAL;VALUE=DURATION:PT1H
X-Robots-Tag:noindex
X-PUBLISHED-TTL:PT1H
BEGIN:VTIMEZONE
TZID:Europe/Paris
BEGIN:DAYLIGHT
TZOFFSETFROM:+0100
TZOFFSETTO:+0200
TZNAME:CEST
DTSTART:20240331T010000
END:DAYLIGHT
BEGIN:STANDARD
TZOFFSETFROM:+0200
TZOFFSETTO:+0100
TZNAME:CET
DTSTART:20241027T010000
END:STANDARD
BEGIN:DAYLIGHT
TZOFFSETFROM:+0100
TZOFFSETTO:+0200
TZNAME:CEST
DTSTART:20250330T010000
END:DAYLIGHT
BEGIN:STANDARD
TZOFFSETFROM:+0200
TZOFFSETTO:+0100
TZNAME:CET
DTSTART:20251026T010000
END:STANDARD
BEGIN:DAYLIGHT
TZOFFSETFROM:+0100
TZOFFSETTO:+0200
TZNAME:CEST
DTSTART:20260329T010000
END:DAYLIGHT
BEGIN:STANDARD
TZOFFSETFROM:+0200
TZOFFSETTO:+0100
TZNAME:CET
DTSTART:20261025T010000
END:STANDARD
END:VTIMEZONE
BEGIN:VEVENT
DTSTART;TZID=Europe/Paris:20250602T080000
DTEND;TZID=Europe/Paris:20250602T120000
DTSTAMP:20260423T223426
CREATED:20250602T100335Z
LAST-MODIFIED:20250602T100335Z
UID:93804-1748851200-1748865600@www.vannes.catholique.fr
SUMMARY:Vannes - conseil de tutelle de l’Enseignement catholique
DESCRIPTION:
URL:https://www.vannes.catholique.fr/evenement/vannes-conseil-de-tutelle-de-lenseignement-catholique-2/
CATEGORIES:Evêque
END:VEVENT
BEGIN:VEVENT
DTSTART;TZID=Europe/Paris:20250602T080000
DTEND;TZID=Europe/Paris:20250602T170000
DTSTAMP:20260423T223426
CREATED:20250602T101601Z
LAST-MODIFIED:20250602T101601Z
UID:93834-1748851200-1748883600@www.vannes.catholique.fr
SUMMARY:Vannes - conseil épiscopal
DESCRIPTION:
URL:https://www.vannes.catholique.fr/evenement/vannes-conseil-episcopal-16/
CATEGORIES:Evêque
END:VEVENT
BEGIN:VEVENT
DTSTART;TZID=Europe/Paris:20250603T180000
DTEND;TZID=Europe/Paris:20250603T190000
DTSTAMP:20260423T223426
CREATED:20250602T100111Z
LAST-MODIFIED:20250602T100111Z
UID:93798-1748973600-1748977200@www.vannes.catholique.fr
SUMMARY:Bieuzy-Lanvaux - Rogations
DESCRIPTION:Jeudi 3 juin à 18h – Maison Notre-Dame de Fatima
URL:https://www.vannes.catholique.fr/evenement/bieuzy-lanvaux-rogations/
CATEGORIES:Evêque
END:VEVENT
BEGIN:VEVENT
DTSTART;TZID=Europe/Paris:20250604T080000
DTEND;TZID=Europe/Paris:20250604T120000
DTSTAMP:20260423T223426
CREATED:20250602T100155Z
LAST-MODIFIED:20250602T100155Z
UID:93800-1749024000-1749038400@www.vannes.catholique.fr
SUMMARY:Vannes - Conseil épiscopal
DESCRIPTION:
URL:https://www.vannes.catholique.fr/evenement/vannes-conseil-episcopal-15/
CATEGORIES:Evêque
END:VEVENT
BEGIN:VEVENT
DTSTART;TZID=Europe/Paris:20250605T080000
DTEND;TZID=Europe/Paris:20250605T120000
DTSTAMP:20260423T223426
CREATED:20250602T100255Z
LAST-MODIFIED:20250602T100255Z
UID:93802-1749110400-1749124800@www.vannes.catholique.fr
SUMMARY:Vannes - CODIEC enseignement catholique
DESCRIPTION:
URL:https://www.vannes.catholique.fr/evenement/vannes-codiec-enseignement-catholique/
CATEGORIES:Evêque
END:VEVENT
BEGIN:VEVENT
DTSTART;TZID=Europe/Paris:20250607T203000
DTEND;TZID=Europe/Paris:20250607T220000
DTSTAMP:20260423T223426
CREATED:20250602T100450Z
LAST-MODIFIED:20250602T100450Z
UID:93806-1749328200-1749333600@www.vannes.catholique.fr
SUMMARY:Sainte-Anne d'Auray - Oratorio
DESCRIPTION:20h30 : Oratorio – basilique de Sainte-Anne-d’Auray
URL:https://www.vannes.catholique.fr/evenement/sainte-anne-dauray-oratorio/
CATEGORIES:Evêque
END:VEVENT
BEGIN:VEVENT
DTSTART;TZID=Europe/Paris:20250608T180000
DTEND;TZID=Europe/Paris:20250608T200000
DTSTAMP:20260423T223426
CREATED:20250602T100559Z
LAST-MODIFIED:20250602T100559Z
UID:93808-1749405600-1749412800@www.vannes.catholique.fr
SUMMARY:Sainte-Anne d'Auray - confirmations des adultes
DESCRIPTION:18h : confirmations des adultes du diocèse
URL:https://www.vannes.catholique.fr/evenement/sainte-anne-dauray-confirmations-des-adultes/
CATEGORIES:Evêque
END:VEVENT
BEGIN:VEVENT
DTSTART;VALUE=DATE:20250609
DTEND;VALUE=DATE:20250610
DTSTAMP:20260423T223426
CREATED:20250602T100709Z
LAST-MODIFIED:20250602T100709Z
UID:93810-1749427200-1749513599@www.vannes.catholique.fr
SUMMARY:Sainte-Anne d'Auray - jubilé\, fête diocésaine de Pentecôte
DESCRIPTION:
URL:https://www.vannes.catholique.fr/evenement/sainte-anne-dauray-jubile-fete-diocesaine-de-pentecote/
CATEGORIES:Evêque
END:VEVENT
BEGIN:VEVENT
DTSTART;VALUE=DATE:20250611
DTEND;VALUE=DATE:20250612
DTSTAMP:20260423T223426
CREATED:20250602T100748Z
LAST-MODIFIED:20250602T100748Z
UID:93812-1749600000-1749686399@www.vannes.catholique.fr
SUMMARY:Vannes - conseil épiscopal élargi
DESCRIPTION:
URL:https://www.vannes.catholique.fr/evenement/vannes-conseil-episcopal-elargi/
CATEGORIES:Evêque
END:VEVENT
BEGIN:VEVENT
DTSTART;TZID=Europe/Paris:20250612T080000
DTEND;TZID=Europe/Paris:20250612T120000
DTSTAMP:20260423T223426
CREATED:20250602T100835Z
LAST-MODIFIED:20250602T100835Z
UID:93814-1749715200-1749729600@www.vannes.catholique.fr
SUMMARY:Vannes - commission diocésaine d’art sacré
DESCRIPTION:
URL:https://www.vannes.catholique.fr/evenement/vannes-commission-diocesaine-dart-sacre/
CATEGORIES:Evêque
END:VEVENT
BEGIN:VEVENT
DTSTART;TZID=Europe/Paris:20250612T140000
DTEND;TZID=Europe/Paris:20250612T170000
DTSTAMP:20260423T223426
CREATED:20250602T100922Z
LAST-MODIFIED:20250602T100922Z
UID:93816-1749736800-1749747600@www.vannes.catholique.fr
SUMMARY:Vannes - conseil de propédeutique
DESCRIPTION:
URL:https://www.vannes.catholique.fr/evenement/vannes-conseil-de-propedeutique/
CATEGORIES:Evêque
END:VEVENT
BEGIN:VEVENT
DTSTART;TZID=Europe/Paris:20250614T180000
DTEND;TZID=Europe/Paris:20250614T193000
DTSTAMP:20260423T223426
CREATED:20250602T101021Z
LAST-MODIFIED:20250602T101021Z
UID:93819-1749924000-1749929400@www.vannes.catholique.fr
SUMMARY:Elven - confirmations
DESCRIPTION:14 juin à 18 h : confirmations Elven
URL:https://www.vannes.catholique.fr/evenement/elven-confirmations/
CATEGORIES:Evêque
END:VEVENT
BEGIN:VEVENT
DTSTART;TZID=Europe/Paris:20250615T150000
DTEND;TZID=Europe/Paris:20250615T170000
DTSTAMP:20260423T223426
CREATED:20250602T101120Z
LAST-MODIFIED:20250602T101120Z
UID:93821-1749999600-1750006800@www.vannes.catholique.fr
SUMMARY:Sainte-Anne d'Auray - ordinations à la basilique
DESCRIPTION:
URL:https://www.vannes.catholique.fr/evenement/sainte-anne-dauray-ordinations-a-la-basilique/
CATEGORIES:Evêque
END:VEVENT
BEGIN:VEVENT
DTSTART;TZID=Europe/Paris:20250616T080000
DTEND;TZID=Europe/Paris:20250617T170000
DTSTAMP:20260423T223426
CREATED:20250602T101241Z
LAST-MODIFIED:20250602T101241Z
UID:93823-1750060800-1750179600@www.vannes.catholique.fr
SUMMARY:Province de Rennes - rencontre des évêques
DESCRIPTION:Rencontre des évêques de la Province ecclésiastique de Rennes
URL:https://www.vannes.catholique.fr/evenement/province-de-rennes-rencontre-des-eveques/
CATEGORIES:Evêque
END:VEVENT
BEGIN:VEVENT
DTSTART;VALUE=DATE:20250618
DTEND;VALUE=DATE:20250619
DTSTAMP:20260423T223426
CREATED:20250602T101317Z
LAST-MODIFIED:20250602T101317Z
UID:93825-1750204800-1750291199@www.vannes.catholique.fr
SUMMARY:Angers - conseil supérieur de l’UCO
DESCRIPTION:
URL:https://www.vannes.catholique.fr/evenement/angers-conseil-superieur-de-luco/
CATEGORIES:Evêque
END:VEVENT
BEGIN:VEVENT
DTSTART;TZID=Europe/Paris:20250620T080000
DTEND;TZID=Europe/Paris:20250620T120000
DTSTAMP:20260423T223426
CREATED:20250602T101359Z
LAST-MODIFIED:20250602T101359Z
UID:93827-1750406400-1750420800@www.vannes.catholique.fr
SUMMARY:Vannes - conseil de tutelle de l’enseignement catholique
DESCRIPTION:
URL:https://www.vannes.catholique.fr/evenement/vannes-conseil-de-tutelle-de-lenseignement-catholique-3/
CATEGORIES:Evêque
END:VEVENT
BEGIN:VEVENT
DTSTART;TZID=Europe/Paris:20250621T180000
DTEND;TZID=Europe/Paris:20250621T193000
DTSTAMP:20260423T223426
CREATED:20250602T101444Z
LAST-MODIFIED:20250602T101444Z
UID:93829-1750528800-1750534200@www.vannes.catholique.fr
SUMMARY:Ploërmel - confirmations
DESCRIPTION:
URL:https://www.vannes.catholique.fr/evenement/ploermel-confirmations-2/
CATEGORIES:Evêque
END:VEVENT
BEGIN:VEVENT
DTSTART;TZID=Europe/Paris:20250622T080000
DTEND;TZID=Europe/Paris:20250622T170000
DTSTAMP:20260423T223426
CREATED:20250602T101524Z
LAST-MODIFIED:20250602T101524Z
UID:93831-1750579200-1750611600@www.vannes.catholique.fr
SUMMARY:Lorient - consécration église Sainte-Bernadette
DESCRIPTION:
URL:https://www.vannes.catholique.fr/evenement/lorient-consecration-eglise-sainte-bernadette/
CATEGORIES:Evêque
END:VEVENT
BEGIN:VEVENT
DTSTART;TZID=Europe/Paris:20250629T103000
DTEND;TZID=Europe/Paris:20250629T120000
DTSTAMP:20260423T223426
CREATED:20250602T101707Z
LAST-MODIFIED:20250602T101707Z
UID:93836-1751193000-1751198400@www.vannes.catholique.fr
SUMMARY:Caudan - messe et bénédiction orgue
DESCRIPTION:
URL:https://www.vannes.catholique.fr/evenement/caudan-messe-et-benediction-orgue/
CATEGORIES:Evêque
END:VEVENT
BEGIN:VEVENT
DTSTART;VALUE=DATE:20250630
DTEND;VALUE=DATE:20250701
DTSTAMP:20260423T223426
CREATED:20250602T101759Z
LAST-MODIFIED:20250602T101759Z
UID:93838-1751241600-1751327999@www.vannes.catholique.fr
SUMMARY:Pénerf\, Le Crouesty - troménie sainte Anne
DESCRIPTION:
URL:https://www.vannes.catholique.fr/evenement/penerf-le-crouesty-tromenie-sainte-anne/
CATEGORIES:Evêque
END:VEVENT
END:VCALENDAR