BEGIN:VCALENDAR
VERSION:2.0
PRODID:-//Diocèse de Vannes - ECPv6.15.17//NONSGML v1.0//EN
CALSCALE:GREGORIAN
METHOD:PUBLISH
X-WR-CALNAME:Diocèse de Vannes
X-ORIGINAL-URL:https://www.vannes.catholique.fr
X-WR-CALDESC:Évènements pour Diocèse de Vannes
REFRESH-INTERVAL;VALUE=DURATION:PT1H
X-Robots-Tag:noindex
X-PUBLISHED-TTL:PT1H
BEGIN:VTIMEZONE
TZID:Europe/Paris
BEGIN:DAYLIGHT
TZOFFSETFROM:+0100
TZOFFSETTO:+0200
TZNAME:CEST
DTSTART:20240331T010000
END:DAYLIGHT
BEGIN:STANDARD
TZOFFSETFROM:+0200
TZOFFSETTO:+0100
TZNAME:CET
DTSTART:20241027T010000
END:STANDARD
BEGIN:DAYLIGHT
TZOFFSETFROM:+0100
TZOFFSETTO:+0200
TZNAME:CEST
DTSTART:20250330T010000
END:DAYLIGHT
BEGIN:STANDARD
TZOFFSETFROM:+0200
TZOFFSETTO:+0100
TZNAME:CET
DTSTART:20251026T010000
END:STANDARD
BEGIN:DAYLIGHT
TZOFFSETFROM:+0100
TZOFFSETTO:+0200
TZNAME:CEST
DTSTART:20260329T010000
END:DAYLIGHT
BEGIN:STANDARD
TZOFFSETFROM:+0200
TZOFFSETTO:+0100
TZNAME:CET
DTSTART:20261025T010000
END:STANDARD
END:VTIMEZONE
BEGIN:VEVENT
DTSTART;TZID=Europe/Paris:20250920T080000
DTEND;TZID=Europe/Paris:20250920T170000
DTSTAMP:20260423T223400
CREATED:20250826T104946Z
LAST-MODIFIED:20250826T104946Z
UID:94853-1758355200-1758387600@www.vannes.catholique.fr
SUMMARY:Vannes - bilan de la troménie
DESCRIPTION:Rencontre avec l’équipe de la Troménie pour bilan.
URL:https://www.vannes.catholique.fr/evenement/vannes-bilan-de-la-tromenie/
CATEGORIES:Evêque
END:VEVENT
BEGIN:VEVENT
DTSTART;TZID=Europe/Paris:20250920T180000
DTEND;TZID=Europe/Paris:20250920T190000
DTSTAMP:20260423T223400
CREATED:20250826T105115Z
LAST-MODIFIED:20250826T105115Z
UID:94855-1758391200-1758394800@www.vannes.catholique.fr
SUMMARY:Lorient - Messe rentrée Memo Lorient et bénédiction nouveaux locaux
DESCRIPTION:
URL:https://www.vannes.catholique.fr/evenement/lorient-messe-rentree-memo-lorient-et-benediction-nouveaux-locaux/
CATEGORIES:Evêque
END:VEVENT
END:VCALENDAR