BEGIN:VCALENDAR
VERSION:2.0
PRODID:-//Diocèse de Vannes - ECPv6.15.17//NONSGML v1.0//EN
CALSCALE:GREGORIAN
METHOD:PUBLISH
X-ORIGINAL-URL:https://www.vannes.catholique.fr
X-WR-CALDESC:Évènements pour Diocèse de Vannes
REFRESH-INTERVAL;VALUE=DURATION:PT1H
X-Robots-Tag:noindex
X-PUBLISHED-TTL:PT1H
BEGIN:VTIMEZONE
TZID:Europe/Paris
BEGIN:DAYLIGHT
TZOFFSETFROM:+0100
TZOFFSETTO:+0200
TZNAME:CEST
DTSTART:20250330T010000
END:DAYLIGHT
BEGIN:STANDARD
TZOFFSETFROM:+0200
TZOFFSETTO:+0100
TZNAME:CET
DTSTART:20251026T010000
END:STANDARD
BEGIN:DAYLIGHT
TZOFFSETFROM:+0100
TZOFFSETTO:+0200
TZNAME:CEST
DTSTART:20260329T010000
END:DAYLIGHT
BEGIN:STANDARD
TZOFFSETFROM:+0200
TZOFFSETTO:+0100
TZNAME:CET
DTSTART:20261025T010000
END:STANDARD
BEGIN:DAYLIGHT
TZOFFSETFROM:+0100
TZOFFSETTO:+0200
TZNAME:CEST
DTSTART:20270328T010000
END:DAYLIGHT
BEGIN:STANDARD
TZOFFSETFROM:+0200
TZOFFSETTO:+0100
TZNAME:CET
DTSTART:20271031T010000
END:STANDARD
END:VTIMEZONE
BEGIN:VEVENT
DTSTART;TZID=Europe/Paris:20260203T203000
DTEND;TZID=Europe/Paris:20260203T220000
DTSTAMP:20260424T135831
CREATED:20260126T160738Z
LAST-MODIFIED:20260126T160738Z
UID:97357-1770150600-1770156000@www.vannes.catholique.fr
SUMMARY:Vannes - Soirée Priscille et Aquila
DESCRIPTION:Veillée pour prendre soin de son couple. Louange\, témoignage\, temps en couple\, confessions.
URL:https://www.vannes.catholique.fr/evenement/vannes-soiree-priscille-et-aquila/
LOCATION:église saint guen vannes
CATEGORIES:Famille - Mariage
END:VEVENT
BEGIN:VEVENT
DTSTART;TZID=Europe/Paris:20260207T093000
DTEND;TZID=Europe/Paris:20260207T163000
DTSTAMP:20260424T135831
CREATED:20260126T161437Z
LAST-MODIFIED:20260126T161638Z
UID:97363-1770456600-1770481800@www.vannes.catholique.fr
SUMMARY:Auray - Journée pour les parents concernés par l’homosexualité d’un enfant
DESCRIPTION:Pour accueillir\, écouter et accompagner les familles concernées par l’homosexualité. Avec Isabelle Parmentier\, théologienne et laïque consacrée. Journée organisée par Marchons ensemble 56. \nSalle Bourdeloy\, Auray \nmarchonsensemble56@gmail.com
URL:https://www.vannes.catholique.fr/evenement/auray-journee-pour-les-parents-concernes-par-lhomosexualite-dun-enfant/
CATEGORIES:Famille - Mariage
END:VEVENT
BEGIN:VEVENT
DTSTART;TZID=Europe/Paris:20260210T203000
DTEND;TZID=Europe/Paris:20260210T230000
DTSTAMP:20260424T135831
CREATED:20260126T162333Z
LAST-MODIFIED:20260126T162452Z
UID:97378-1770755400-1770764400@www.vannes.catholique.fr
SUMMARY:Vannes - Table ronde EVARS
DESCRIPTION:«Parlons d’affectivité à l’heure du programme EVARS». Organisée par la Pastorale Familiale du diocèse\, l’Enseignement Catholique et les AFC du pays de Vannes.\npastoralefamiliale@diocese-vannes.fr
URL:https://www.vannes.catholique.fr/evenement/arradon-table-ronde-evars/
LOCATION:Maison du diocèse – Espace Montcalm\, 55 rue Mgr Tréhiou - CS 92241\, Vannes\, 56007\, France
CATEGORIES:Famille - Mariage,Formations - Réflexions
END:VEVENT
BEGIN:VEVENT
DTSTART;VALUE=DATE:20260215
DTEND;VALUE=DATE:20260216
DTSTAMP:20260424T135831
CREATED:20260109T093821Z
LAST-MODIFIED:20260109T093857Z
UID:97033-1771113600-1771199999@www.vannes.catholique.fr
SUMMARY:MOOC ThéoCouple - Vidéo n°3
DESCRIPTION:Vidéo 3 du parcours de formation « ThéoCouple » :\n« Appelés à aimer en vérité (Théologie du corps #2) » par Emmanuel et Marie-Gabrielle Ménager\, délégués de la Pastorale familiale de Vendée\, Consulteurs au Dicastère pour les laïcs\, la famille et la vie. Co-fondateurs des Forum Wahou ! \nA propos du MOOC « ThéoCouple » : Ce parcours en ligne est ouvert à tous ceux qui souhaitent découvrir et approfondir les fondamentaux du mariage et de la vie conjugale. \n10 cours sous forme de vidéos (d’environ 20 minutes).\nLes vidéos sont publiées tous les 15 jours et restent visionnables pour les personnes inscrites jusqu’au 31 août 2026.\nParcours proposé par le service diocésain de Pastorale familiale en lien avec l’Athénée\, Institut diocésain de formation. \nEn savoir plus \nS’inscrire
URL:https://www.vannes.catholique.fr/evenement/mooc-theocouple-video-n2-2/
CATEGORIES:Famille - Mariage,Formations - Réflexions
END:VEVENT
END:VCALENDAR