BEGIN:VCALENDAR
VERSION:2.0
PRODID:-//Diocèse de Vannes - ECPv6.15.17//NONSGML v1.0//EN
CALSCALE:GREGORIAN
METHOD:PUBLISH
X-WR-CALNAME:Diocèse de Vannes
X-ORIGINAL-URL:https://www.vannes.catholique.fr
X-WR-CALDESC:Évènements pour Diocèse de Vannes
REFRESH-INTERVAL;VALUE=DURATION:PT1H
X-Robots-Tag:noindex
X-PUBLISHED-TTL:PT1H
BEGIN:VTIMEZONE
TZID:Europe/Paris
BEGIN:DAYLIGHT
TZOFFSETFROM:+0100
TZOFFSETTO:+0200
TZNAME:CEST
DTSTART:20250330T010000
END:DAYLIGHT
BEGIN:STANDARD
TZOFFSETFROM:+0200
TZOFFSETTO:+0100
TZNAME:CET
DTSTART:20251026T010000
END:STANDARD
BEGIN:DAYLIGHT
TZOFFSETFROM:+0100
TZOFFSETTO:+0200
TZNAME:CEST
DTSTART:20260329T010000
END:DAYLIGHT
BEGIN:STANDARD
TZOFFSETFROM:+0200
TZOFFSETTO:+0100
TZNAME:CET
DTSTART:20261025T010000
END:STANDARD
BEGIN:DAYLIGHT
TZOFFSETFROM:+0100
TZOFFSETTO:+0200
TZNAME:CEST
DTSTART:20270328T010000
END:DAYLIGHT
BEGIN:STANDARD
TZOFFSETFROM:+0200
TZOFFSETTO:+0100
TZNAME:CET
DTSTART:20271031T010000
END:STANDARD
END:VTIMEZONE
BEGIN:VEVENT
DTSTART;VALUE=DATE:20260301
DTEND;VALUE=DATE:20260302
DTSTAMP:20260424T002339
CREATED:20260109T094035Z
LAST-MODIFIED:20260109T094035Z
UID:97035-1772323200-1772409599@www.vannes.catholique.fr
SUMMARY:MOOC ThéoCouple - Vidéo n°4
DESCRIPTION:Vidéo 4 du parcours de formation « ThéoCouple » :\n« Histoire du Sacrement de mariage #1 »\, par le Père Antoine de Roeck\, docteur en théologie morale à l’institut Jean-Paul II (Rome)\, auteur de « Luigi & Marie Beltramme-Quattrocchi » (ed. Artège).\n+ Rituel du mariage : par Emmanuel Auvray\, Diplômé de l’Institut Supérieur de Liturgie (Paris)\nA propos du MOOC « ThéoCouple » : Ce parcours en ligne est ouvert à tous ceux qui souhaitent découvrir et approfondir les fondamentaux du mariage et de la vie conjugale. \n10 cours sous forme de vidéos (d’environ 20 minutes).\nLes vidéos sont publiées tous les 15 jours et restent visionnables pour les personnes inscrites jusqu’au 31 août 2026. \nParcours proposé par le service diocésain de Pastorale familiale en lien avec l’Athénée\, Institut diocésain de formation. \nEn savoir plus \nS’inscrire
URL:https://www.vannes.catholique.fr/evenement/mooc-theocouple-video-n4/
CATEGORIES:Famille - Mariage,Formations - Réflexions
END:VEVENT
BEGIN:VEVENT
DTSTART;TZID=Europe/Paris:20260305T090000
DTEND;TZID=Europe/Paris:20260305T170000
DTSTAMP:20260424T002339
CREATED:20260127T112044Z
LAST-MODIFIED:20260127T112044Z
UID:97434-1772701200-1772730000@www.vannes.catholique.fr
SUMMARY:Lorient - Cyclopause
DESCRIPTION:Journée entre femmes conçue par des animatrices CycloShow pour prendre le temps de préparer et bien vivre sa ménopause. \nAnimatrice : Sibylle GRANGE (07.57.54.11.08)\nOrganisatrice : Barbara Sauty (06.15.16.04.12)\nPrix : 65€\n07 57 54 11 08 \nInscription : \nhttps://cycloshow-xy.fr/nos-ateliers/cyclopause/
URL:https://www.vannes.catholique.fr/evenement/lorient-cyclopause/
CATEGORIES:Famille - Mariage,Santé
END:VEVENT
BEGIN:VEVENT
DTSTART;TZID=Europe/Paris:20260305T200000
DTEND;TZID=Europe/Paris:20260305T220000
DTSTAMP:20260424T002339
CREATED:20260126T124732Z
LAST-MODIFIED:20260126T124732Z
UID:97317-1772740800-1772748000@www.vannes.catholique.fr
SUMMARY:Vannes - Soirée pour couples
DESCRIPTION:Une soirée pour prendre soin de son couple : témoignages\, louange\, échanges\, temps convivial\, … \nContact : 06 08 40 09 14
URL:https://www.vannes.catholique.fr/evenement/vannes-soiree-pour-couples/
LOCATION:Maison du diocèse – Espace Montcalm\, 55 rue Mgr Tréhiou - CS 92241\, Vannes\, 56007\, France
CATEGORIES:Famille - Mariage
ORGANIZER;CN="Communaut%C3%A9 du Chemin Neuf":MAILTO:famille.lemonnier2@wanadoo.fr
END:VEVENT
BEGIN:VEVENT
DTSTART;TZID=Europe/Paris:20260306T090000
DTEND;TZID=Europe/Paris:20260306T170000
DTSTAMP:20260424T002339
CREATED:20260205T110135Z
LAST-MODIFIED:20260205T110135Z
UID:97558-1772787600-1772816400@www.vannes.catholique.fr
SUMMARY:Vannes - Cyclopause
DESCRIPTION:Journée entre femmes conçue par des animatrices CycloShow pour prendre le temps de préparer et bien vivre sa ménopause. \nAnimatrice : Sibylle GRANGE (07.57.54.11.08)\nOrganisatrice : Barbara Sauty (06.15.16.04.12)\nPrix : 65€\n07 57 54 11 08 \nInscription : \nhttps://cycloshow-xy.fr/nos-ateliers/cyclopause/
URL:https://www.vannes.catholique.fr/evenement/vannes-cyclopause/
LOCATION:Maison du diocèse – Espace Montcalm\, 55 rue Mgr Tréhiou - CS 92241\, Vannes\, 56007\, France
CATEGORIES:Famille - Mariage,Santé
END:VEVENT
BEGIN:VEVENT
DTSTART;VALUE=DATE:20260315
DTEND;VALUE=DATE:20260316
DTSTAMP:20260424T002339
CREATED:20260109T094200Z
LAST-MODIFIED:20260109T094200Z
UID:97038-1773532800-1773619199@www.vannes.catholique.fr
SUMMARY:MOOC ThéoCouple - Vidéo n°5
DESCRIPTION:Vidéo 5 du parcours de formation « ThéoCouple » :\n« Histoire du Sacrement de mariage #2 »\, par le Père Antoine de Roeck\, docteur en théologie morale à l’institut Jean-Paul II (Rome)\, auteur de « Luigi & Marie Beltramme-Quattrocchi » (ed. Artège).\n+ Rituel du mariage : par Emmanuel Auvray\, Diplômé de l’Institut Supérieur de Liturgie (Paris)\nA propos du MOOC « ThéoCouple » : Ce parcours en ligne est ouvert à tous ceux qui souhaitent découvrir et approfondir les fondamentaux du mariage et de la vie conjugale. \n10 cours sous forme de vidéos (d’environ 20 minutes).\nLes vidéos sont publiées tous les 15 jours et restent visionnables pour les personnes inscrites jusqu’au 31 août 2026. \nParcours proposé par le service diocésain de Pastorale familiale en lien avec l’Athénée\, Institut diocésain de formation. \nEn savoir plus \nS’inscrire
URL:https://www.vannes.catholique.fr/evenement/mooc-theocouple-video-n5/
CATEGORIES:Famille - Mariage,Formations - Réflexions
END:VEVENT
BEGIN:VEVENT
DTSTART;TZID=Europe/Paris:20260321T093000
DTEND;TZID=Europe/Paris:20260321T170000
DTSTAMP:20260424T002339
CREATED:20260127T104304Z
LAST-MODIFIED:20260127T104753Z
UID:97410-1774085400-1774112400@www.vannes.catholique.fr
SUMMARY:Vannes - Journée des futurs mariés
DESCRIPTION:Pour les couples en vue de préparer leur mariage. Au lycée Saint-François-Xavier à Vannes. \nInscription sur billetweb. \n http://www.billetweb.fr/journee-des-futurs-maries2026\ncontact.futursmaries56@gmail.com
URL:https://www.vannes.catholique.fr/evenement/vannes-journee-des-futurs-maries/
CATEGORIES:Famille - Mariage
ORGANIZER;CN="Pastorale Familiale":MAILTO:pastoralefamiliale@diocese-vannes.fr
END:VEVENT
BEGIN:VEVENT
DTSTART;VALUE=DATE:20260328
DTEND;VALUE=DATE:20260329
DTSTAMP:20260424T002339
CREATED:20260313T083245Z
LAST-MODIFIED:20260313T083245Z
UID:98102-1774656000-1774742399@www.vannes.catholique.fr
SUMMARY:Vannes - Atelier père/fils "Mission XY"
DESCRIPTION:Atelier parents/enfants pour les garçons de 11 à 15 ans accompagné de leur papa\, parrain\, oncle\,…\nUne approche originale\, ludique et interactive\, pour aborder avec sérénité les changements du corps à la puberté et s’émerveiller devant la transmission de la vie.\n\nPour vous informer : https://cycloshow-xy.fr/qui-sommes-nous/\n\nPour s’inscrire :\n\n\nSamedi 28 mars 2026 : atelier père/fils « Mission XY »\, à Vannes\nhttps://cycloshow-xy.fr/ateliers/206037/\n\n\n\nProchain atelier  Samedi 6 juin 2026 : atelier mère/fille « Cycloshow »\, à Vannes\nhttps://cycloshow-xy.fr/ateliers/204603/
URL:https://www.vannes.catholique.fr/evenement/vannes-atelier-pere-fils-mission-xy/
CATEGORIES:Enfants - Jeunes - Baptême,Famille - Mariage
END:VEVENT
END:VCALENDAR