BEGIN:VCALENDAR
VERSION:2.0
PRODID:-//Diocèse de Vannes - ECPv6.15.17//NONSGML v1.0//EN
CALSCALE:GREGORIAN
METHOD:PUBLISH
X-ORIGINAL-URL:https://www.vannes.catholique.fr
X-WR-CALDESC:Évènements pour Diocèse de Vannes
REFRESH-INTERVAL;VALUE=DURATION:PT1H
X-Robots-Tag:noindex
X-PUBLISHED-TTL:PT1H
BEGIN:VTIMEZONE
TZID:Europe/Paris
BEGIN:DAYLIGHT
TZOFFSETFROM:+0100
TZOFFSETTO:+0200
TZNAME:CEST
DTSTART:20250330T010000
END:DAYLIGHT
BEGIN:STANDARD
TZOFFSETFROM:+0200
TZOFFSETTO:+0100
TZNAME:CET
DTSTART:20251026T010000
END:STANDARD
BEGIN:DAYLIGHT
TZOFFSETFROM:+0100
TZOFFSETTO:+0200
TZNAME:CEST
DTSTART:20260329T010000
END:DAYLIGHT
BEGIN:STANDARD
TZOFFSETFROM:+0200
TZOFFSETTO:+0100
TZNAME:CET
DTSTART:20261025T010000
END:STANDARD
BEGIN:DAYLIGHT
TZOFFSETFROM:+0100
TZOFFSETTO:+0200
TZNAME:CEST
DTSTART:20270328T010000
END:DAYLIGHT
BEGIN:STANDARD
TZOFFSETFROM:+0200
TZOFFSETTO:+0100
TZNAME:CET
DTSTART:20271031T010000
END:STANDARD
END:VTIMEZONE
BEGIN:VEVENT
DTSTART;VALUE=DATE:20260501
DTEND;VALUE=DATE:20260502
DTSTAMP:20260424T002337
CREATED:20260109T094953Z
LAST-MODIFIED:20260109T094953Z
UID:97044-1777593600-1777679999@www.vannes.catholique.fr
SUMMARY:MOOC ThéoCouple - Vidéo n°8
DESCRIPTION:Vidéo 8 du parcours de formation « ThéoCouple » :\n« Fécondité sociale du couple chrétien » par le Père Antoine de Roeck\, docteur en théologie morale à l’institut Jean-Paul II (Rome)\, auteur de « Luigi & Marie Beltramme-Quattrocchi » ed. Artège et Jérôme DEDEYAN\, chef d’entreprise sur « Être chrétien dans sa vie professionnelle\, selon la doctrine sociale de l’Eglise ». \nA propos du MOOC « ThéoCouple » : Ce parcours en ligne est ouvert à tous ceux qui souhaitent découvrir et approfondir les fondamentaux du mariage et de la vie conjugale. \n10 cours sous forme de vidéos (d’environ 20 minutes).\nLes vidéos sont publiées tous les 15 jours et restent visionnables pour les personnes inscrites jusqu’au 31 août 2026.\nParcours proposé par le service diocésain de Pastorale familiale en lien avec l’Athénée\, Institut diocésain de formation. \nEn savoir plus \nS’inscrire
URL:https://www.vannes.catholique.fr/evenement/mooc-theocouple-video-n8/
CATEGORIES:Famille - Mariage,Formations - Réflexions
END:VEVENT
BEGIN:VEVENT
DTSTART;VALUE=DATE:20260515
DTEND;VALUE=DATE:20260516
DTSTAMP:20260424T002337
CREATED:20260109T095151Z
LAST-MODIFIED:20260109T095151Z
UID:97048-1778803200-1778889599@www.vannes.catholique.fr
SUMMARY:MOOC ThéoCouple - Vidéo n°9
DESCRIPTION:Vidéo 9 du parcours de formation « ThéoCouple » :\n« Communiquer – Pardonner – Prier » par Marie-Laure de Salins\, Conseillère Conjugale et familiale au CLER\, formatrice en Education Affective Relationnelle et Sexuelle\, thérapeute familiale.\n+ Témoignage de Lucille et Julien sur la prière conjugale. \nA propos du MOOC « ThéoCouple » : Ce parcours en ligne est ouvert à tous ceux qui souhaitent découvrir et approfondir les fondamentaux du mariage et de la vie conjugale. \n10 cours sous forme de vidéos (d’environ 20 minutes).\nLes vidéos sont publiées tous les 15 jours et restent visionnables pour les personnes inscrites jusqu’au 31 août 2026.\nParcours proposé par le service diocésain de Pastorale familiale en lien avec l’Athénée\, Institut diocésain de formation. \nEn savoir plus \nS’inscrire
URL:https://www.vannes.catholique.fr/evenement/mooc-theocouple-video-n9/
CATEGORIES:Famille - Mariage,Formations - Réflexions
END:VEVENT
END:VCALENDAR