BEGIN:VCALENDAR
VERSION:2.0
PRODID:-//Diocèse de Vannes - ECPv6.15.17//NONSGML v1.0//EN
CALSCALE:GREGORIAN
METHOD:PUBLISH
X-WR-CALNAME:Diocèse de Vannes
X-ORIGINAL-URL:https://www.vannes.catholique.fr
X-WR-CALDESC:Évènements pour Diocèse de Vannes
REFRESH-INTERVAL;VALUE=DURATION:PT1H
X-Robots-Tag:noindex
X-PUBLISHED-TTL:PT1H
BEGIN:VTIMEZONE
TZID:Europe/Paris
BEGIN:DAYLIGHT
TZOFFSETFROM:+0100
TZOFFSETTO:+0200
TZNAME:CEST
DTSTART:20250330T010000
END:DAYLIGHT
BEGIN:STANDARD
TZOFFSETFROM:+0200
TZOFFSETTO:+0100
TZNAME:CET
DTSTART:20251026T010000
END:STANDARD
BEGIN:DAYLIGHT
TZOFFSETFROM:+0100
TZOFFSETTO:+0200
TZNAME:CEST
DTSTART:20260329T010000
END:DAYLIGHT
BEGIN:STANDARD
TZOFFSETFROM:+0200
TZOFFSETTO:+0100
TZNAME:CET
DTSTART:20261025T010000
END:STANDARD
BEGIN:DAYLIGHT
TZOFFSETFROM:+0100
TZOFFSETTO:+0200
TZNAME:CEST
DTSTART:20270328T010000
END:DAYLIGHT
BEGIN:STANDARD
TZOFFSETFROM:+0200
TZOFFSETTO:+0100
TZNAME:CET
DTSTART:20271031T010000
END:STANDARD
END:VTIMEZONE
BEGIN:VEVENT
DTSTART;VALUE=DATE:20260415
DTEND;VALUE=DATE:20260416
DTSTAMP:20260424T151609
CREATED:20260109T094753Z
LAST-MODIFIED:20260109T094753Z
UID:97042-1776211200-1776297599@www.vannes.catholique.fr
SUMMARY:MOOC ThéoCouple - Vidéo n°7
DESCRIPTION:Vidéo 7 du parcours de formation « ThéoCouple » :\n« La mission du couple chrétien : éducation et transmission » par Laurent de Beaucoudray\, père de famille\, directeur de l’enseignement catholique du Morbihan et Marie Fédry\, Education Affective\, Relationnelle et Sexuelle (EARS) de l’Enseignement Catholique 56.\n+ Rituel du mariage : par Emmanuel Auvray\, Diplômé de l’Institut Supérieur de Liturgie (Paris)\nA propos du MOOC « ThéoCouple » : Ce parcours en ligne est ouvert à tous ceux qui souhaitent découvrir et approfondir les fondamentaux du mariage et de la vie conjugale. \n10 cours sous forme de vidéos (d’environ 20 minutes).\nLes vidéos sont publiées tous les 15 jours et restent visionnables pour les personnes inscrites jusqu’au 31 août 2026. \nParcours proposé par le service diocésain de Pastorale familiale en lien avec l’Athénée\, Institut diocésain de formation. \nEn savoir plus \nS’inscrire
URL:https://www.vannes.catholique.fr/evenement/mooc-theocouple-video-n7/
CATEGORIES:Famille - Mariage,Formations - Réflexions
END:VEVENT
END:VCALENDAR