BEGIN:VCALENDAR
VERSION:2.0
PRODID:-//Diocèse de Vannes - ECPv6.15.17//NONSGML v1.0//EN
CALSCALE:GREGORIAN
METHOD:PUBLISH
X-ORIGINAL-URL:https://www.vannes.catholique.fr
X-WR-CALDESC:Évènements pour Diocèse de Vannes
REFRESH-INTERVAL;VALUE=DURATION:PT1H
X-Robots-Tag:noindex
X-PUBLISHED-TTL:PT1H
BEGIN:VTIMEZONE
TZID:Europe/Paris
BEGIN:DAYLIGHT
TZOFFSETFROM:+0100
TZOFFSETTO:+0200
TZNAME:CEST
DTSTART:20250330T010000
END:DAYLIGHT
BEGIN:STANDARD
TZOFFSETFROM:+0200
TZOFFSETTO:+0100
TZNAME:CET
DTSTART:20251026T010000
END:STANDARD
BEGIN:DAYLIGHT
TZOFFSETFROM:+0100
TZOFFSETTO:+0200
TZNAME:CEST
DTSTART:20260329T010000
END:DAYLIGHT
BEGIN:STANDARD
TZOFFSETFROM:+0200
TZOFFSETTO:+0100
TZNAME:CET
DTSTART:20261025T010000
END:STANDARD
BEGIN:DAYLIGHT
TZOFFSETFROM:+0100
TZOFFSETTO:+0200
TZNAME:CEST
DTSTART:20270328T010000
END:DAYLIGHT
BEGIN:STANDARD
TZOFFSETFROM:+0200
TZOFFSETTO:+0100
TZNAME:CET
DTSTART:20271031T010000
END:STANDARD
END:VTIMEZONE
BEGIN:VEVENT
DTSTART;TZID=Europe/Paris:20260501T100000
DTEND;TZID=Europe/Paris:20260501T170000
DTSTAMP:20260426T060858
CREATED:20260401T133040Z
LAST-MODIFIED:20260401T133040Z
UID:98432-1777629600-1777654800@www.vannes.catholique.fr
SUMMARY:Berné - Pèlerinage diocésain pour les vocations
DESCRIPTION:De la chapelle Ste Anne de Berné à la Chapelle du Sacré-Coeur de Berné. \nRv à 10h\, marche d’environ 6 km. \n12 : pique-nique \nEnseignement\, puis messe à 15h présidée par Mgr Centène. \nSur le thème : « Si tu savais le don de Dieu »
URL:https://www.vannes.catholique.fr/evenement/berne-pelerinage-diocesain-pour-les-vocations/
CATEGORIES:Pèlerinages
END:VEVENT
BEGIN:VEVENT
DTSTART;TZID=Europe/Paris:20260501T103000
DTEND;TZID=Europe/Paris:20260501T163000
DTSTAMP:20260426T060858
CREATED:20260420T090550Z
LAST-MODIFIED:20260420T090550Z
UID:98631-1777631400-1777653000@www.vannes.catholique.fr
SUMMARY:Plumelin - Fête de Saint Joseph travailleur
DESCRIPTION:10 h 30 : Eucharistie\n12 h : Pique-nique\n14 h 30 : témoignage ou chapelet commenté\n15 h 15 : Procession et vêpres \n  \nChez les sœurs de Kermaria\, Filles de Jésus\, en Plumelin.
URL:https://www.vannes.catholique.fr/evenement/plumelin-fete-de-saint-joseph-travailleur/
CATEGORIES:Célébrations - Prières,Pardons,Pèlerinages
END:VEVENT
END:VCALENDAR