BEGIN:VCALENDAR
VERSION:2.0
PRODID:-//Diocèse de Vannes - ECPv6.15.17//NONSGML v1.0//EN
CALSCALE:GREGORIAN
METHOD:PUBLISH
X-WR-CALNAME:Diocèse de Vannes
X-ORIGINAL-URL:https://www.vannes.catholique.fr
X-WR-CALDESC:Évènements pour Diocèse de Vannes
REFRESH-INTERVAL;VALUE=DURATION:PT1H
X-Robots-Tag:noindex
X-PUBLISHED-TTL:PT1H
BEGIN:VTIMEZONE
TZID:Europe/Paris
BEGIN:DAYLIGHT
TZOFFSETFROM:+0100
TZOFFSETTO:+0200
TZNAME:CEST
DTSTART:20250330T010000
END:DAYLIGHT
BEGIN:STANDARD
TZOFFSETFROM:+0200
TZOFFSETTO:+0100
TZNAME:CET
DTSTART:20251026T010000
END:STANDARD
BEGIN:DAYLIGHT
TZOFFSETFROM:+0100
TZOFFSETTO:+0200
TZNAME:CEST
DTSTART:20260329T010000
END:DAYLIGHT
BEGIN:STANDARD
TZOFFSETFROM:+0200
TZOFFSETTO:+0100
TZNAME:CET
DTSTART:20261025T010000
END:STANDARD
BEGIN:DAYLIGHT
TZOFFSETFROM:+0100
TZOFFSETTO:+0200
TZNAME:CEST
DTSTART:20270328T010000
END:DAYLIGHT
BEGIN:STANDARD
TZOFFSETFROM:+0200
TZOFFSETTO:+0100
TZNAME:CET
DTSTART:20271031T010000
END:STANDARD
END:VTIMEZONE
BEGIN:VEVENT
DTSTART;VALUE=DATE:20260525
DTEND;VALUE=DATE:20260601
DTSTAMP:20260426T061137
CREATED:20260127T140017Z
LAST-MODIFIED:20260127T140155Z
UID:97441-1779667200-1780271999@www.vannes.catholique.fr
SUMMARY:Lourdes - Pèlerinage diocésain
DESCRIPTION:Pèlerinage ouvert à tous. \nPossibilité de participer comme pèlerin en accueil immédiat\, en pèlerin hospitalier avec l’hospitalité diocésaine\, en pèlerin de paroisse. Renseignements auprès du service diocésain des pèlerinages (02 97 68 30 \n50) ou auprès de l’hospitalité diocésaine (06 48 60 89 86).
URL:https://www.vannes.catholique.fr/evenement/lourdes-pelerinage-diocesain/
LOCATION:Lourdes\, France
CATEGORIES:Pèlerinages
ORGANIZER;CN="Service dioc%C3%A9sain des p%C3%A8lerinages":MAILTO:pelerinages@diocese-vannes.fr
END:VEVENT
END:VCALENDAR