BEGIN:VCALENDAR
VERSION:2.0
PRODID:-//Diocèse de Vannes - ECPv6.15.17//NONSGML v1.0//EN
CALSCALE:GREGORIAN
METHOD:PUBLISH
X-WR-CALNAME:Diocèse de Vannes
X-ORIGINAL-URL:https://www.vannes.catholique.fr
X-WR-CALDESC:Évènements pour Diocèse de Vannes
REFRESH-INTERVAL;VALUE=DURATION:PT1H
X-Robots-Tag:noindex
X-PUBLISHED-TTL:PT1H
BEGIN:VTIMEZONE
TZID:Europe/Paris
BEGIN:DAYLIGHT
TZOFFSETFROM:+0100
TZOFFSETTO:+0200
TZNAME:CEST
DTSTART:20240331T010000
END:DAYLIGHT
BEGIN:STANDARD
TZOFFSETFROM:+0200
TZOFFSETTO:+0100
TZNAME:CET
DTSTART:20241027T010000
END:STANDARD
BEGIN:DAYLIGHT
TZOFFSETFROM:+0100
TZOFFSETTO:+0200
TZNAME:CEST
DTSTART:20250330T010000
END:DAYLIGHT
BEGIN:STANDARD
TZOFFSETFROM:+0200
TZOFFSETTO:+0100
TZNAME:CET
DTSTART:20251026T010000
END:STANDARD
BEGIN:DAYLIGHT
TZOFFSETFROM:+0100
TZOFFSETTO:+0200
TZNAME:CEST
DTSTART:20260329T010000
END:DAYLIGHT
BEGIN:STANDARD
TZOFFSETFROM:+0200
TZOFFSETTO:+0100
TZNAME:CET
DTSTART:20261025T010000
END:STANDARD
BEGIN:DAYLIGHT
TZOFFSETFROM:+0100
TZOFFSETTO:+0200
TZNAME:CEST
DTSTART:20270328T010000
END:DAYLIGHT
BEGIN:STANDARD
TZOFFSETFROM:+0200
TZOFFSETTO:+0100
TZNAME:CET
DTSTART:20271031T010000
END:STANDARD
END:VTIMEZONE
BEGIN:VEVENT
DTSTART;VALUE=DATE:20251231
DTEND;VALUE=DATE:20260102
DTSTAMP:20260423T223425
CREATED:20251120T105339Z
LAST-MODIFIED:20251120T105542Z
UID:96216-1767139200-1767311999@www.vannes.catholique.fr
SUMMARY:Pontcalec - Retraite du Nouvel an pour jeunes filles
DESCRIPTION:Les soeurs dominicaines du Saint-Esprit à Pontcalec convient les jeunes filles à un temps de retraite spirituelle à l’occasion du Nouvel An. Réveillon-retraite du 30 décembre au 1er janvier 2026  avec :\n-Temps de prière\n– Enseignements\n– Temps conviviaux \nPratique :\nGare de Lorient\n15 €/jour
URL:https://www.vannes.catholique.fr/evenement/pontcalec-retraite-du-nouvel-an-pour-jeunes-filles/
CATEGORIES:Célébrations - Prières,Formations - Réflexions,Retraites - Sessions
END:VEVENT
BEGIN:VEVENT
DTSTART;VALUE=DATE:20260119
DTEND;VALUE=DATE:20260125
DTSTAMP:20260423T223425
CREATED:20260108T073943Z
LAST-MODIFIED:20260108T073943Z
UID:97001-1768780800-1769299199@www.vannes.catholique.fr
SUMMARY:Bieuzy Lanvaux : Retraite selon les exercices de Saint Ignace
DESCRIPTION:Du lundi 19 au samedi 24 janvier : Retraite pour hommes et jeunes gens à la Maison Notre Dame de Fatima à Bieuzy – Lanvaux 56330 Pluvigner. \nEn savoir plus
URL:https://www.vannes.catholique.fr/evenement/bieuzy-lanvaux-retraite-selon-les-exercices-de-saint-ignace/
LOCATION:Maison Notre Dame de Fatima\, Bieuzy Lanvaux\, Pluvigner\, 56330\, France
CATEGORIES:Retraites - Sessions
END:VEVENT
BEGIN:VEVENT
DTSTART;TZID=Europe/Paris:20260130T080000
DTEND;TZID=Europe/Paris:20260201T170000
DTSTAMP:20260423T223425
CREATED:20260126T164500Z
LAST-MODIFIED:20260126T164500Z
UID:97395-1769760000-1769965200@www.vannes.catholique.fr
SUMMARY:Kergonan - Formation au chant grégorien
DESCRIPTION:Enseignements spirituels sur la liturgie de la Présentation au Temple\, donnés par les maîtres de chœur des moines et des moniales de Kergonan. Technique vocale\, chant choral\, histoire musicale\, manuscrits et modalité\, … \nPour tout public. \n  \nhttps://www.kergonan.org/conferences/#gregorien
URL:https://www.vannes.catholique.fr/evenement/kergonan-formation-au-chant-gregorien/
LOCATION:Abbaye Sainte Anne de Kergonan\, BP 11\, Plouharnel\, 56340\, France
CATEGORIES:Formations - Réflexions,Retraites - Sessions
END:VEVENT
END:VCALENDAR