BEGIN:VCALENDAR
VERSION:2.0
PRODID:-//Diocèse de Vannes - ECPv6.15.17//NONSGML v1.0//EN
CALSCALE:GREGORIAN
METHOD:PUBLISH
X-ORIGINAL-URL:https://www.vannes.catholique.fr
X-WR-CALDESC:Évènements pour Diocèse de Vannes
REFRESH-INTERVAL;VALUE=DURATION:PT1H
X-Robots-Tag:noindex
X-PUBLISHED-TTL:PT1H
BEGIN:VTIMEZONE
TZID:Europe/Paris
BEGIN:DAYLIGHT
TZOFFSETFROM:+0100
TZOFFSETTO:+0200
TZNAME:CEST
DTSTART:20250330T010000
END:DAYLIGHT
BEGIN:STANDARD
TZOFFSETFROM:+0200
TZOFFSETTO:+0100
TZNAME:CET
DTSTART:20251026T010000
END:STANDARD
BEGIN:DAYLIGHT
TZOFFSETFROM:+0100
TZOFFSETTO:+0200
TZNAME:CEST
DTSTART:20260329T010000
END:DAYLIGHT
BEGIN:STANDARD
TZOFFSETFROM:+0200
TZOFFSETTO:+0100
TZNAME:CET
DTSTART:20261025T010000
END:STANDARD
BEGIN:DAYLIGHT
TZOFFSETFROM:+0100
TZOFFSETTO:+0200
TZNAME:CEST
DTSTART:20270328T010000
END:DAYLIGHT
BEGIN:STANDARD
TZOFFSETFROM:+0200
TZOFFSETTO:+0100
TZNAME:CET
DTSTART:20271031T010000
END:STANDARD
END:VTIMEZONE
BEGIN:VEVENT
DTSTART;TZID=Europe/Paris:20260130T080000
DTEND;TZID=Europe/Paris:20260201T170000
DTSTAMP:20260423T085653
CREATED:20260126T164500Z
LAST-MODIFIED:20260126T164500Z
UID:97395-1769760000-1769965200@www.vannes.catholique.fr
SUMMARY:Kergonan - Formation au chant grégorien
DESCRIPTION:Enseignements spirituels sur la liturgie de la Présentation au Temple\, donnés par les maîtres de chœur des moines et des moniales de Kergonan. Technique vocale\, chant choral\, histoire musicale\, manuscrits et modalité\, … \nPour tout public. \n  \nhttps://www.kergonan.org/conferences/#gregorien
URL:https://www.vannes.catholique.fr/evenement/kergonan-formation-au-chant-gregorien/
LOCATION:Abbaye Sainte Anne de Kergonan\, BP 11\, Plouharnel\, 56340\, France
CATEGORIES:Formations - Réflexions,Retraites - Sessions
END:VEVENT
BEGIN:VEVENT
DTSTART;TZID=Europe/Paris:20260203T180000
DTEND;TZID=Europe/Paris:20260209T090000
DTSTAMP:20260423T085653
CREATED:20260126T161013Z
LAST-MODIFIED:20260126T161013Z
UID:97359-1770141600-1770627600@www.vannes.catholique.fr
SUMMARY:Penboc'h - Retraite pour les diacres et leurs épouses
DESCRIPTION:Relire sa vie et sa mission de diacre et d’épouse. Temps fort spirituel avec enseignements\, travaux et accompagnement personnel permettant de relire son ministère et d’ouvrir des pistes nouvelles. \nhttps://www.penboch.fr/activites/diacres-et-leurs-epouses/
URL:https://www.vannes.catholique.fr/evenement/penboch-retraite-pour-les-diacres-et-leurs-epouses/
LOCATION:Centre spirituel de Penboc’h\, Arradon\, 56610\, France
CATEGORIES:Retraites - Sessions
END:VEVENT
BEGIN:VEVENT
DTSTART;VALUE=DATE:20260216
DTEND;VALUE=DATE:20260222
DTSTAMP:20260423T085653
CREATED:20260206T114249Z
LAST-MODIFIED:20260206T114249Z
UID:97724-1771200000-1771718399@www.vannes.catholique.fr
SUMMARY:Bieuzy Lanvaux - Retraite selon les exercices de saint Ignace
DESCRIPTION:Les CPCR (Coopératrices paroissiales du Christ-Roi) proposent aux hommes et jeunes gens une retraite selon les exercices spirituels de Saint Ignace à la Maison Notre-Dame de Fatima\, Bieuzy-Lanvaux (Pluvigner). Les prochaines retraites auront lieu : du 16 au 21 février 2026 et du 30 mars au 4 avril 2026. \nEn savoir plus
URL:https://www.vannes.catholique.fr/evenement/bieuzy-lanvaux-retraite-selon-les-exercices-de-saint-ignace-2/
CATEGORIES:Retraites - Sessions
ORGANIZER;CN="Maison Notre Dame de Fatima":MAILTO:cooperatrices.bieuzy@free.fr
END:VEVENT
BEGIN:VEVENT
DTSTART;TZID=Europe/Paris:20260221T080000
DTEND;TZID=Europe/Paris:20260222T170000
DTSTAMP:20260423T085653
CREATED:20260126T163548Z
LAST-MODIFIED:20260126T163548Z
UID:97391-1771660800-1771779600@www.vannes.catholique.fr
SUMMARY:Abbaye de Rhuys - Halte spirituelle "Apprenez-nous à prier"
DESCRIPTION:Animée par l’équipe de l’Abbaye\, les sœurs de la Charité Saint-Louis. Offices du jour en paroisse.\nwww.abbaye-de-rhuys.fr
URL:https://www.vannes.catholique.fr/evenement/abbaye-de-rhuys-halte-spirituelle-apprenez-nous-a-prier/
LOCATION:Abbaye de Rhuys\, 1 place Monseigneur Ropert\, Saint Gildas de Rhuys\, 56730\, France
CATEGORIES:Retraites - Sessions
END:VEVENT
BEGIN:VEVENT
DTSTART;TZID=Europe/Paris:20260226T193000
DTEND;TZID=Europe/Paris:20260226T213000
DTSTAMP:20260423T085653
CREATED:20260127T110141Z
LAST-MODIFIED:20260127T110141Z
UID:97420-1772134200-1772141400@www.vannes.catholique.fr
SUMMARY:Penboc'h - Retraite de Carême
DESCRIPTION:Retraite de Carême selon les exercices spirituels de saint Ignace. Temps de rencontre hebdomadaire de 2h pendant les 6 semaines de Carême. La retraite est constituée de l’ensemble des rencontres les 26 février puis 12\, 19\, 26 mars et 9 avril.\n02 97 44 83 74 \nhttp://www.penboch.fr
URL:https://www.vannes.catholique.fr/evenement/penboch-retraite-de-careme/
LOCATION:Centre spirituel de Penboc’h\, Arradon\, 56610\, France
CATEGORIES:Retraites - Sessions
ORGANIZER;CN="Centre Spirituel de Penboc'h":MAILTO:accueil@penboch.fr
END:VEVENT
END:VCALENDAR