BEGIN:VCALENDAR
VERSION:2.0
PRODID:-//Diocèse de Vannes - ECPv6.15.17//NONSGML v1.0//EN
CALSCALE:GREGORIAN
METHOD:PUBLISH
X-ORIGINAL-URL:https://www.vannes.catholique.fr
X-WR-CALDESC:Évènements pour Diocèse de Vannes
REFRESH-INTERVAL;VALUE=DURATION:PT1H
X-Robots-Tag:noindex
X-PUBLISHED-TTL:PT1H
BEGIN:VTIMEZONE
TZID:Europe/Paris
BEGIN:DAYLIGHT
TZOFFSETFROM:+0100
TZOFFSETTO:+0200
TZNAME:CEST
DTSTART:20250330T010000
END:DAYLIGHT
BEGIN:STANDARD
TZOFFSETFROM:+0200
TZOFFSETTO:+0100
TZNAME:CET
DTSTART:20251026T010000
END:STANDARD
BEGIN:DAYLIGHT
TZOFFSETFROM:+0100
TZOFFSETTO:+0200
TZNAME:CEST
DTSTART:20260329T010000
END:DAYLIGHT
BEGIN:STANDARD
TZOFFSETFROM:+0200
TZOFFSETTO:+0100
TZNAME:CET
DTSTART:20261025T010000
END:STANDARD
BEGIN:DAYLIGHT
TZOFFSETFROM:+0100
TZOFFSETTO:+0200
TZNAME:CEST
DTSTART:20270328T010000
END:DAYLIGHT
BEGIN:STANDARD
TZOFFSETFROM:+0200
TZOFFSETTO:+0100
TZNAME:CET
DTSTART:20271031T010000
END:STANDARD
END:VTIMEZONE
BEGIN:VEVENT
DTSTART;TZID=Europe/Paris:20260302T160000
DTEND;TZID=Europe/Paris:20260307T090000
DTSTAMP:20260422T111605
CREATED:20260127T111726Z
LAST-MODIFIED:20260127T111726Z
UID:97432-1772467200-1772874000@www.vannes.catholique.fr
SUMMARY:Saint-Gildas-de-Rhuys - Retraite spirituelle
DESCRIPTION:Retraite spirituelle «Lazare\, sors !»\nAnimée par Mgr Philippe Marsset\, évêque auxiliaire de Paris. Office du jour en paroisse. \nhttps://www.abbaye-de-rhuys.fr/evenement/retraite-spirituelle-lazare-sors-animee-par-monseigneur-philippe-marset/
URL:https://www.vannes.catholique.fr/evenement/saint-gildas-de-rhuys-retraite-spirituelle/
LOCATION:Abbaye de Rhuys\, 1 place Monseigneur Ropert\, Saint Gildas de Rhuys\, 56730\, France
CATEGORIES:Retraites - Sessions
ORGANIZER;CN="Abbaye de Rhuys":MAILTO:abbaye.de.rhuys@wanadoo.fr
END:VEVENT
BEGIN:VEVENT
DTSTART;TZID=Europe/Paris:20260305T193000
DTEND;TZID=Europe/Paris:20260305T213000
DTSTAMP:20260422T111605
CREATED:20260127T110424Z
LAST-MODIFIED:20260127T110424Z
UID:97422-1772739000-1772746200@www.vannes.catholique.fr
SUMMARY:Penboc'h - Retraite de Carême
DESCRIPTION:Retraite de Carême selon les exercices spirituels de saint Ignace. Temps de rencontre hebdomadaire de 2h pendant les 6 semaines de Carême. La retraite est constituée de l’ensemble des 6 rencontres du 26 février au 9 avril.\n02 97 44 83 74 \nhttp://www.penboch.fr
URL:https://www.vannes.catholique.fr/evenement/penboch-retraite-de-careme-2/
LOCATION:Centre spirituel de Penboc’h\, Arradon\, 56610\, France
CATEGORIES:Retraites - Sessions
ORGANIZER;CN="Centre Spirituel de Penboc'h":MAILTO:accueil@penboch.fr
END:VEVENT
BEGIN:VEVENT
DTSTART;TZID=Europe/Paris:20260306T180000
DTEND;TZID=Europe/Paris:20260308T170000
DTSTAMP:20260422T111605
CREATED:20260205T105917Z
LAST-MODIFIED:20260205T105917Z
UID:97556-1772820000-1772989200@www.vannes.catholique.fr
SUMMARY:Penboc'h - Session "Jeune pro\, j'en suis où de mon boulot ?"
DESCRIPTION:Comment trouver sa place dans le monde du travail\, approfondir\, s’épanouir\, gagner en compétences en respectant ce qui est prioritaire pour soi.
URL:https://www.vannes.catholique.fr/evenement/penboch-session-jeune-pro-jen-suis-ou-de-mon-boulot/
LOCATION:Centre spirituel de Penboc’h\, Arradon\, 56610\, France
CATEGORIES:Retraites - Sessions
ORGANIZER;CN="Centre Spirituel de Penboc'h":MAILTO:accueil@penboch.fr
END:VEVENT
BEGIN:VEVENT
DTSTART;TZID=Europe/Paris:20260309T080000
DTEND;TZID=Europe/Paris:20260313T170000
DTSTAMP:20260422T111605
CREATED:20260205T112351Z
LAST-MODIFIED:20260205T112351Z
UID:97583-1773043200-1773421200@www.vannes.catholique.fr
SUMMARY:Penboc'h - Session "Qu'est-ce que je fais dans cette galère ?"
DESCRIPTION:Pour toute personne souhaitant reprendre souffle\, redéfinir un cap\, sortir de la galère professionnelle\, personnelle ou sociale.
URL:https://www.vannes.catholique.fr/evenement/penboch-session-quest-ce-que-je-fais-dans-cette-galere/
LOCATION:Centre spirituel de Penboc’h\, Arradon\, 56610\, France
CATEGORIES:Retraites - Sessions
ORGANIZER;CN="Centre Spirituel de Penboc'h":MAILTO:accueil@penboch.fr
END:VEVENT
BEGIN:VEVENT
DTSTART;VALUE=DATE:20260310
DTEND;VALUE=DATE:20260314
DTSTAMP:20260422T111605
CREATED:20260205T112618Z
LAST-MODIFIED:20260205T112618Z
UID:97585-1773100800-1773446399@www.vannes.catholique.fr
SUMMARY:Auray - Retraite de Carême "Soif d'Espérance"
DESCRIPTION:Enseignements par le père Jacques Philippe de la Communauté des Béatitudes. \nAu choix de 15h à 16h suivi de l’adoration puis office des vêpres ou de 20h30 à 21h30 suivi des complies. \nLibre\, sans inscription. \nMaison paroissiale\, 9 rue Bourdeloy\, Auray
URL:https://www.vannes.catholique.fr/evenement/auray-retraite-de-careme-soif-desperance/
CATEGORIES:Retraites - Sessions
END:VEVENT
BEGIN:VEVENT
DTSTART;TZID=Europe/Paris:20260312T193000
DTEND;TZID=Europe/Paris:20260312T213000
DTSTAMP:20260422T111605
CREATED:20260127T111059Z
LAST-MODIFIED:20260127T111059Z
UID:97424-1773343800-1773351000@www.vannes.catholique.fr
SUMMARY:Penboc'h - Retraite de Carême
DESCRIPTION:Retraite de Carême selon les exercices spirituels de saint Ignace. Temps de rencontre hebdomadaire de 2h pendant les 6 semaines de Carême. La retraite est constituée de l’ensemble des 6 rencontres du 26 février au 9 avril.\n02 97 44 83 74 \nhttp://www.penboch.fr
URL:https://www.vannes.catholique.fr/evenement/penboch-retraite-de-careme-3/
LOCATION:Centre spirituel de Penboc’h\, Arradon\, 56610\, France
CATEGORIES:Retraites - Sessions
ORGANIZER;CN="Centre Spirituel de Penboc'h":MAILTO:accueil@penboch.fr
END:VEVENT
BEGIN:VEVENT
DTSTART;TZID=Europe/Paris:20260315T080000
DTEND;TZID=Europe/Paris:20260321T170000
DTSTAMP:20260422T111605
CREATED:20260205T130915Z
LAST-MODIFIED:20260205T130915Z
UID:97591-1773561600-1774112400@www.vannes.catholique.fr
SUMMARY:Bieuzy-Lanvaux - Exercices spirituels pour hommes
DESCRIPTION:Exercices spirituels de Saint-Ignace.\nPour hommes et jeunes gens.\nChez les Soeurs coopératrices du Christ-Roi \nNotre-Dame-de-Fatima\, Bieuzy-Lanvaux \n02 97 56 01 69
URL:https://www.vannes.catholique.fr/evenement/bieuzy-lanvaux-exercices-spirituels-pour-hommes/
LOCATION:Maison Notre Dame de Fatima\, Bieuzy Lanvaux\, Pluvigner\, 56330\, France
CATEGORIES:Retraites - Sessions
ORGANIZER;CN="Maison Notre Dame de Fatima":MAILTO:cooperatrices.bieuzy@free.fr
END:VEVENT
BEGIN:VEVENT
DTSTART;TZID=Europe/Paris:20260319T193000
DTEND;TZID=Europe/Paris:20260319T213000
DTSTAMP:20260422T111605
CREATED:20260127T111135Z
LAST-MODIFIED:20260127T111135Z
UID:97426-1773948600-1773955800@www.vannes.catholique.fr
SUMMARY:Penboc'h - Retraite de Carême
DESCRIPTION:Retraite de Carême selon les exercices spirituels de saint Ignace. Temps de rencontre hebdomadaire de 2h pendant les 6 semaines de Carême. La retraite est constituée de l’ensemble des 6 rencontres du 26 février au 9 avril.\n02 97 44 83 74 \nhttp://www.penboch.fr
URL:https://www.vannes.catholique.fr/evenement/penboch-retraite-de-careme-4/
LOCATION:Centre spirituel de Penboc’h\, Arradon\, 56610\, France
CATEGORIES:Retraites - Sessions
ORGANIZER;CN="Centre Spirituel de Penboc'h":MAILTO:accueil@penboch.fr
END:VEVENT
BEGIN:VEVENT
DTSTART;VALUE=DATE:20260322
DTEND;VALUE=DATE:20260323
DTSTAMP:20260422T111605
CREATED:20260316T104315Z
LAST-MODIFIED:20260318T110513Z
UID:98131-1774137600-1774223999@www.vannes.catholique.fr
SUMMARY:Bieuzy-Lanvaux - Récollection pour hommes
DESCRIPTION:Récollection pour hommes à Notre-Dame de Fatima\, Bieuzy-Lanvaux : « Laisser Dieu faire toutes choses nouvelles » (Is 43\,19 – Ap 21\, 5). \nInscriptions : \n\ncontact.bieuzy@cpcrsoeurs.org / 02 97 56 01 69 \n9 h : Accueil\n9 h 30 : Chapelet\n10 h 00 : Messe\n11 h 15 : Conférence 1\, Père Patrice (CPCR) \n12 h 30 : Repas\n13 h 45 : Conférence 2\n15 h 15 : Chemin de Croix\n16 h 30 : Envoi. \nConfessions possibles toute la journée. \nAu cours de cette journée nous rendrons grâce à Dieu pour les 70 ans de sacerdoce du Père Jose Maria Fernandez – Cueto CPCR
URL:https://www.vannes.catholique.fr/evenement/bieuzy-lanvaux-recollection-pour-hommes/
LOCATION:Maison Notre Dame de Fatima\, Bieuzy Lanvaux\, Pluvigner\, 56330\, France
CATEGORIES:Retraites - Sessions
END:VEVENT
BEGIN:VEVENT
DTSTART;TZID=Europe/Paris:20260326T193000
DTEND;TZID=Europe/Paris:20260326T213000
DTSTAMP:20260422T111605
CREATED:20260127T111238Z
LAST-MODIFIED:20260127T111238Z
UID:97428-1774553400-1774560600@www.vannes.catholique.fr
SUMMARY:Penboc'h - Retraite de Carême
DESCRIPTION:Retraite de Carême selon les exercices spirituels de saint Ignace. Temps de rencontre hebdomadaire de 2h pendant les 6 semaines de Carême. La retraite est constituée de l’ensemble des 6 rencontres du 26 février au 9 avril.\n02 97 44 83 74 \nhttp://www.penboch.fr
URL:https://www.vannes.catholique.fr/evenement/penboch-retraite-de-careme-5/
LOCATION:Centre spirituel de Penboc’h\, Arradon\, 56610\, France
CATEGORIES:Retraites - Sessions
ORGANIZER;CN="Centre Spirituel de Penboc'h":MAILTO:accueil@penboch.fr
END:VEVENT
BEGIN:VEVENT
DTSTART;VALUE=DATE:20260330
DTEND;VALUE=DATE:20260405
DTSTAMP:20260422T111605
CREATED:20260206T114511Z
LAST-MODIFIED:20260206T114511Z
UID:97726-1774828800-1775347199@www.vannes.catholique.fr
SUMMARY:Bieuzy Lanvaux - Retraite selon les exercices de saint Ignace
DESCRIPTION:Les CPCR (Coopératrices paroissiales du Christ-Roi) proposent aux hommes et jeunes gens une retraite selon les exercices spirituels de Saint Ignace à la Maison Notre-Dame de Fatima\, Bieuzy-Lanvaux (Pluvigner). \nEn savoir plus
URL:https://www.vannes.catholique.fr/evenement/bieuzy-lanvaux-retraite-selon-les-exercices-de-saint-ignace-3/
CATEGORIES:Retraites - Sessions
ORGANIZER;CN="Maison Notre Dame de Fatima":MAILTO:cooperatrices.bieuzy@free.fr
END:VEVENT
BEGIN:VEVENT
DTSTART;TZID=Europe/Paris:20260330T080000
DTEND;TZID=Europe/Paris:20260404T170000
DTSTAMP:20260422T111605
CREATED:20260205T131410Z
LAST-MODIFIED:20260205T131410Z
UID:97597-1774857600-1775322000@www.vannes.catholique.fr
SUMMARY:Bieuzy-Lanvaux - Exercices spirituels pour hommes
DESCRIPTION:Exercices spirituels de Saint-Ignace.\nPour hommes et jeunes gens.\nChez les Soeurs coopératrices du Christ-Roi \nNotre-Dame-de-Fatima\, Bieuzy-Lanvaux \n02 97 56 01 69
URL:https://www.vannes.catholique.fr/evenement/bieuzy-lanvaux-exercices-spirituels-pour-hommes-2/
LOCATION:Maison Notre Dame de Fatima\, Bieuzy Lanvaux\, Pluvigner\, 56330\, France
CATEGORIES:Retraites - Sessions
ORGANIZER;CN="Maison Notre Dame de Fatima":MAILTO:cooperatrices.bieuzy@free.fr
END:VEVENT
END:VCALENDAR