BEGIN:VCALENDAR
VERSION:2.0
PRODID:-//Diocèse de Vannes - ECPv6.15.17//NONSGML v1.0//EN
CALSCALE:GREGORIAN
METHOD:PUBLISH
X-ORIGINAL-URL:https://www.vannes.catholique.fr
X-WR-CALDESC:Évènements pour Diocèse de Vannes
REFRESH-INTERVAL;VALUE=DURATION:PT1H
X-Robots-Tag:noindex
X-PUBLISHED-TTL:PT1H
BEGIN:VTIMEZONE
TZID:Europe/Paris
BEGIN:DAYLIGHT
TZOFFSETFROM:+0100
TZOFFSETTO:+0200
TZNAME:CEST
DTSTART:20250330T010000
END:DAYLIGHT
BEGIN:STANDARD
TZOFFSETFROM:+0200
TZOFFSETTO:+0100
TZNAME:CET
DTSTART:20251026T010000
END:STANDARD
BEGIN:DAYLIGHT
TZOFFSETFROM:+0100
TZOFFSETTO:+0200
TZNAME:CEST
DTSTART:20260329T010000
END:DAYLIGHT
BEGIN:STANDARD
TZOFFSETFROM:+0200
TZOFFSETTO:+0100
TZNAME:CET
DTSTART:20261025T010000
END:STANDARD
BEGIN:DAYLIGHT
TZOFFSETFROM:+0100
TZOFFSETTO:+0200
TZNAME:CEST
DTSTART:20270328T010000
END:DAYLIGHT
BEGIN:STANDARD
TZOFFSETFROM:+0200
TZOFFSETTO:+0100
TZNAME:CET
DTSTART:20271031T010000
END:STANDARD
END:VTIMEZONE
BEGIN:VEVENT
DTSTART;VALUE=DATE:20260718
DTEND;VALUE=DATE:20260725
DTSTAMP:20260422T124018
CREATED:20260420T133507Z
LAST-MODIFIED:20260420T133623Z
UID:98652-1784332800-1784937599@www.vannes.catholique.fr
SUMMARY:Route Amor Dei (découverte de la vie religieuse)
DESCRIPTION:Organisée depuis 2017\, la Route Amor Dei propose de découvrir « de l’intérieur » les 3 formes de vie religieuse féminine\, en passant deux jours en immersion dans chaque communauté rencontrée\, avec d’autres filles s’interrogeant aussi sur la vocation religieuse.  \nElle aura lieu du 18 au 24 juillet 2026. \nCet été seront visitées: \n– Les Augustines Hospitalières de la Miséricorde\, à Malestroit (56): vie canoniale \n– Les Petites Sœurs des Pauvres\, à Nantes (44):  vie apostolique \n– Les Cisterciennes de l’Abbaye ND des Gardes\, à Chemillé-en-Anjou (49): vie contemplative \nAu programme : rencontre avec les Communautés\, partage de leur charisme\, de leur prière et de leur liturgie\, de leur travail/apostolat\, topos\, témoignages\, moments fraternels\, temps personnels\, possibilité d’échange avec une sœur\, … \nDestinée aux filles de 18 à 30 ans\, la Route est accompagnée par 2 sœurs de communautés différentes et est organisée avec le soutien des Pôles Vocation des diocèses de Vannes\, de Rennes et de Nantes. \nRenseignements et inscriptions: parcoursvocationamordei@gmail.com \nSite du Parcours Amor dei  \nEt pages facebook et instagram
URL:https://www.vannes.catholique.fr/evenement/route-amor-dei-decouverte-de-la-vie-religieuse/
CATEGORIES:Camp Jeunes,Retraites - Sessions
END:VEVENT
BEGIN:VEVENT
DTSTART;VALUE=DATE:20260724
DTEND;VALUE=DATE:20260730
DTSTAMP:20260422T124018
CREATED:20260420T132554Z
LAST-MODIFIED:20260420T132554Z
UID:98648-1784851200-1785369599@www.vannes.catholique.fr
SUMMARY:Penboc'h - Session "L'un croit\, l'autre pas"
DESCRIPTION:Une proposition estivale pour les familles et les couples\, organisée au Centre spirituel jésuite de Penboc’h à Arradon : « L’un croit\, l’autre pas : cheminer ensemble ». \nRenseignements sur le site penboch.fr
URL:https://www.vannes.catholique.fr/evenement/penboch-session-lun-croit-lautre-pas/
LOCATION:Centre spirituel de Penboc’h\, Arradon\, 56610\, France
CATEGORIES:Famille - Mariage,Retraites - Sessions
END:VEVENT
END:VCALENDAR