BEGIN:VCALENDAR
VERSION:2.0
PRODID:-//Diocèse de Vannes - ECPv6.15.17//NONSGML v1.0//EN
CALSCALE:GREGORIAN
METHOD:PUBLISH
X-ORIGINAL-URL:https://www.vannes.catholique.fr
X-WR-CALDESC:Évènements pour Diocèse de Vannes
REFRESH-INTERVAL;VALUE=DURATION:PT1H
X-Robots-Tag:noindex
X-PUBLISHED-TTL:PT1H
BEGIN:VTIMEZONE
TZID:Europe/Paris
BEGIN:DAYLIGHT
TZOFFSETFROM:+0100
TZOFFSETTO:+0200
TZNAME:CEST
DTSTART:20250330T010000
END:DAYLIGHT
BEGIN:STANDARD
TZOFFSETFROM:+0200
TZOFFSETTO:+0100
TZNAME:CET
DTSTART:20251026T010000
END:STANDARD
BEGIN:DAYLIGHT
TZOFFSETFROM:+0100
TZOFFSETTO:+0200
TZNAME:CEST
DTSTART:20260329T010000
END:DAYLIGHT
BEGIN:STANDARD
TZOFFSETFROM:+0200
TZOFFSETTO:+0100
TZNAME:CET
DTSTART:20261025T010000
END:STANDARD
BEGIN:DAYLIGHT
TZOFFSETFROM:+0100
TZOFFSETTO:+0200
TZNAME:CEST
DTSTART:20270328T010000
END:DAYLIGHT
BEGIN:STANDARD
TZOFFSETFROM:+0200
TZOFFSETTO:+0100
TZNAME:CET
DTSTART:20271031T010000
END:STANDARD
END:VTIMEZONE
BEGIN:VEVENT
DTSTART;TZID=Europe/Paris:20260409T193000
DTEND;TZID=Europe/Paris:20260409T213000
DTSTAMP:20260423T024700
CREATED:20260127T111405Z
LAST-MODIFIED:20260127T111405Z
UID:97430-1775763000-1775770200@www.vannes.catholique.fr
SUMMARY:Penboc'h - Retraite de Carême
DESCRIPTION:Retraite de Carême selon les exercices spirituels de saint Ignace. Temps de rencontre hebdomadaire de 2h pendant les 6 semaines de Carême. La retraite est constituée de l’ensemble des 6 rencontres du 26 février au 9 avril.\n02 97 44 83 74 \nhttp://www.penboch.fr
URL:https://www.vannes.catholique.fr/evenement/penboch-retraite-de-careme-6/
LOCATION:Centre spirituel de Penboc’h\, Arradon\, 56610\, France
CATEGORIES:Retraites - Sessions
ORGANIZER;CN="Centre Spirituel de Penboc'h":MAILTO:accueil@penboch.fr
END:VEVENT
END:VCALENDAR