BEGIN:VCALENDAR
VERSION:2.0
PRODID:-//Diocèse de Vannes - ECPv6.15.17//NONSGML v1.0//EN
CALSCALE:GREGORIAN
METHOD:PUBLISH
X-WR-CALNAME:Diocèse de Vannes
X-ORIGINAL-URL:https://www.vannes.catholique.fr
X-WR-CALDESC:Évènements pour Diocèse de Vannes
REFRESH-INTERVAL;VALUE=DURATION:PT1H
X-Robots-Tag:noindex
X-PUBLISHED-TTL:PT1H
BEGIN:VTIMEZONE
TZID:Europe/Paris
BEGIN:DAYLIGHT
TZOFFSETFROM:+0100
TZOFFSETTO:+0200
TZNAME:CEST
DTSTART:20250330T010000
END:DAYLIGHT
BEGIN:STANDARD
TZOFFSETFROM:+0200
TZOFFSETTO:+0100
TZNAME:CET
DTSTART:20251026T010000
END:STANDARD
BEGIN:DAYLIGHT
TZOFFSETFROM:+0100
TZOFFSETTO:+0200
TZNAME:CEST
DTSTART:20260329T010000
END:DAYLIGHT
BEGIN:STANDARD
TZOFFSETFROM:+0200
TZOFFSETTO:+0100
TZNAME:CET
DTSTART:20261025T010000
END:STANDARD
BEGIN:DAYLIGHT
TZOFFSETFROM:+0100
TZOFFSETTO:+0200
TZNAME:CEST
DTSTART:20270328T010000
END:DAYLIGHT
BEGIN:STANDARD
TZOFFSETFROM:+0200
TZOFFSETTO:+0100
TZNAME:CET
DTSTART:20271031T010000
END:STANDARD
END:VTIMEZONE
BEGIN:VEVENT
DTSTART;TZID=Europe/Paris:20260410T190000
DTEND;TZID=Europe/Paris:20260412T170000
DTSTAMP:20260422T105028
CREATED:20260130T132933Z
LAST-MODIFIED:20260130T132933Z
UID:97482-1775847600-1776013200@www.vannes.catholique.fr
SUMMARY:Retraite "Est-ce lui ? Est-ce elle ?" - La Roche du Theil
DESCRIPTION:Est-ce lui ? Est-ce elle ? En amont des fiançailles\, cette retraite s’adresse aux jeunes qui ont besoin de discerner sur le choix de votre futur(e) conjoint(e). \nAnimée par Laure Templier\, psychologue et psychothérapeute\, cette retraite a pour but de donner des clés de discernement aux jeunes pour éclairer leur choix et découvrir le projet de Dieu pour eux. Des couples accompagnants sont présents tout le week-end pour faire de l’écoute et compléter les topos de Laure Templier. \nEn savoir plus
URL:https://www.vannes.catholique.fr/evenement/retraite-est-ce-lui-est-ce-elle-la-roche-du-theil/
CATEGORIES:Famille - Mariage,Retraites - Sessions
END:VEVENT
BEGIN:VEVENT
DTSTART;VALUE=DATE:20260412
DTEND;VALUE=DATE:20260413
DTSTAMP:20260422T105028
CREATED:20260407T064747Z
LAST-MODIFIED:20260407T064747Z
UID:98531-1775952000-1776038399@www.vannes.catholique.fr
SUMMARY:Bieuzy-Lanvaux - Fête de la divine Miséricorde
DESCRIPTION:Fête de la divine Miséricorde à la maison des CPCR (Coopérateurs paroissiaux du Christ-Roi) Notre-Dame de Fatima\, Bieuzy Lanvaux. \n10 h : Messe\n14 h 30 : Chapelet\n15 h : Heure de la Miséricorde\n16 h : Vêpres \nConfessions toute la journée\nPossibilité de pique-niquer dans le parc.
URL:https://www.vannes.catholique.fr/evenement/bieuzy-lanvaux-fete-de-la-divine-misericorde/
CATEGORIES:Retraites - Sessions
ORGANIZER;CN="Maison Notre Dame de Fatima":MAILTO:cooperatrices.bieuzy@free.fr
END:VEVENT
END:VCALENDAR