BEGIN:VCALENDAR
VERSION:2.0
PRODID:-//Diocèse de Vannes - ECPv6.15.17//NONSGML v1.0//EN
CALSCALE:GREGORIAN
METHOD:PUBLISH
X-WR-CALNAME:Diocèse de Vannes
X-ORIGINAL-URL:https://www.vannes.catholique.fr
X-WR-CALDESC:Évènements pour Diocèse de Vannes
REFRESH-INTERVAL;VALUE=DURATION:PT1H
X-Robots-Tag:noindex
X-PUBLISHED-TTL:PT1H
BEGIN:VTIMEZONE
TZID:Europe/Paris
BEGIN:DAYLIGHT
TZOFFSETFROM:+0100
TZOFFSETTO:+0200
TZNAME:CEST
DTSTART:20230326T010000
END:DAYLIGHT
BEGIN:STANDARD
TZOFFSETFROM:+0200
TZOFFSETTO:+0100
TZNAME:CET
DTSTART:20231029T010000
END:STANDARD
BEGIN:DAYLIGHT
TZOFFSETFROM:+0100
TZOFFSETTO:+0200
TZNAME:CEST
DTSTART:20240331T010000
END:DAYLIGHT
BEGIN:STANDARD
TZOFFSETFROM:+0200
TZOFFSETTO:+0100
TZNAME:CET
DTSTART:20241027T010000
END:STANDARD
BEGIN:DAYLIGHT
TZOFFSETFROM:+0100
TZOFFSETTO:+0200
TZNAME:CEST
DTSTART:20250330T010000
END:DAYLIGHT
BEGIN:STANDARD
TZOFFSETFROM:+0200
TZOFFSETTO:+0100
TZNAME:CET
DTSTART:20251026T010000
END:STANDARD
END:VTIMEZONE
BEGIN:VEVENT
DTSTART;TZID=Europe/Paris:20240605T173000
DTEND;TZID=Europe/Paris:20240605T193000
DTSTAMP:20260423T060924
CREATED:20240529T092813Z
LAST-MODIFIED:20240603T065648Z
UID:89349-1717608600-1717615800@www.vannes.catholique.fr
SUMMARY:Chapelet des enfants - Vannes (St Guen)
DESCRIPTION:À Jésus\, par Marie !\nChapelet des enfants à 17h30 à la chapelle de l’église St Guen (entrée par l’arrière) \nViens confier ta famille\, le monde\, tes amis\, à Jésus\, par Marie et ouvrir ton cœur à ses cadeaux  !
URL:https://www.vannes.catholique.fr/evenement/chapelet-des-enfants/
LOCATION:église saint guen vannes
CATEGORIES:Enfants - Jeunes - Baptême
END:VEVENT
BEGIN:VEVENT
DTSTART;TZID=Europe/Paris:20240606T200000
DTEND;TZID=Europe/Paris:20240606T220000
DTSTAMP:20260423T060924
CREATED:20230608T123828Z
LAST-MODIFIED:20230608T123828Z
UID:83904-1717704000-1717711200@www.vannes.catholique.fr
SUMMARY:Lorient - Athénée Scholè - Clés pour la mission 8/8
DESCRIPTION:Lieu : Lorient Paroisse Saint Louis \nCours 8 – L’expérience d’une semaine et/ou d’un projet missionnaire en paroisse
URL:https://www.vannes.catholique.fr/evenement/lorient-athenee-schole-cles-pour-la-mission-8-8/
CATEGORIES:Formations - Réflexions
ORGANIZER;CN="Formation Humaine et Chr%C3%A9tienne":MAILTO:formationhec@diocese-vannes.fr
END:VEVENT
BEGIN:VEVENT
DTSTART;VALUE=DATE:20240607
DTEND;VALUE=DATE:20240608
DTSTAMP:20260423T060924
CREATED:20240606T093150Z
LAST-MODIFIED:20240606T093150Z
UID:89517-1717718400-1717804799@www.vannes.catholique.fr
SUMMARY:Conseil de tutelle de l’enseignement catholique
DESCRIPTION:
URL:https://www.vannes.catholique.fr/evenement/conseil-de-tutelle-de-lenseignement-catholique-8/
CATEGORIES:Evêque
END:VEVENT
BEGIN:VEVENT
DTSTART;TZID=Europe/Paris:20240607T203000
DTEND;TZID=Europe/Paris:20240607T223000
DTSTAMP:20260423T060924
CREATED:20240531T115713Z
LAST-MODIFIED:20240531T115713Z
UID:89432-1717792200-1717799400@www.vannes.catholique.fr
SUMMARY:Conférence : Travail et Société - Quelle espérance pour un nouveau catholicisme social ?
DESCRIPTION:Cet événement\, à l’origine prévu le jeudi 6 juin\, est reporté au vendredi 7 juin 2024 à 20h30 à l’Espace Montcalm à Vannes. \nContact : AFC du Pays de Vannes – Associations Familiales Catholiques (afc-france.org)
URL:https://www.vannes.catholique.fr/evenement/conference-travail-et-societe-quelle-esperance-pour-un-nouveau-catholicisme-social/
LOCATION:Maison du diocèse – Espace Montcalm\, 55 rue Mgr Tréhiou - CS 92241\, Vannes\, 56007\, France
CATEGORIES:Formations - Réflexions
END:VEVENT
BEGIN:VEVENT
DTSTART;TZID=Europe/Paris:20240608T094500
DTEND;TZID=Europe/Paris:20240608T114500
DTSTAMP:20260423T060924
CREATED:20230608T123936Z
LAST-MODIFIED:20230608T123936Z
UID:83906-1717839900-1717847100@www.vannes.catholique.fr
SUMMARY:Ploërmel - Athénée Scholè - Clés pour la mission 8/8
DESCRIPTION:Lieu :  Ploërmel chez les Frères \nCours 8 – L’expérience d’une semaine et/ou d’un projet missionnaire en paroisse
URL:https://www.vannes.catholique.fr/evenement/ploermel-athenee-schole-cles-pour-la-mission-8-8/
CATEGORIES:Formations - Réflexions
END:VEVENT
BEGIN:VEVENT
DTSTART;TZID=Europe/Paris:20240608T140000
DTEND;TZID=Europe/Paris:20240608T173000
DTSTAMP:20260423T060924
CREATED:20240607T133036Z
LAST-MODIFIED:20240607T133036Z
UID:89668-1717855200-1717867800@www.vannes.catholique.fr
SUMMARY:Assemblée diocésaine CCFD-Terre solidaire 56
DESCRIPTION:Rapport d’activité\, élections\, puis intervention de B. Sauve sur sa mission en Afrique ‘Foncier rural et filière riz en Côte d’Ivoire’
URL:https://www.vannes.catholique.fr/evenement/assemblee-diocesaine-ccfd-terre-solidaire-56/
LOCATION:Maison du diocèse – Espace Montcalm\, 55 rue Mgr Tréhiou - CS 92241\, Vannes\, 56007\, France
CATEGORIES:Formations - Réflexions
END:VEVENT
BEGIN:VEVENT
DTSTART;TZID=Europe/Paris:20240608T180000
DTEND;TZID=Europe/Paris:20240608T200000
DTSTAMP:20260423T060924
CREATED:20240606T093317Z
LAST-MODIFIED:20240606T093317Z
UID:89519-1717869600-1717876800@www.vannes.catholique.fr
SUMMARY:Confirmations à Guer
DESCRIPTION:
URL:https://www.vannes.catholique.fr/evenement/confirmations-a-guer/
CATEGORIES:Evêque
END:VEVENT
BEGIN:VEVENT
DTSTART;VALUE=DATE:20240609
DTEND;VALUE=DATE:20240610
DTSTAMP:20260423T060924
CREATED:20230717T081608Z
LAST-MODIFIED:20230717T081608Z
UID:84580-1717891200-1717977599@www.vannes.catholique.fr
SUMMARY:Hennebont - Fête de l'ensemble paroissial
DESCRIPTION:Contact : Presbytère Hennebont 02 97 36 22 57
URL:https://www.vannes.catholique.fr/evenement/hennebont-fete-de-lensemble-paroissial/
CATEGORIES:Célébrations - Prières,Enfants - Jeunes - Baptême,Famille - Mariage
END:VEVENT
BEGIN:VEVENT
DTSTART;TZID=Europe/Paris:20240609T094500
DTEND;TZID=Europe/Paris:20240609T120000
DTSTAMP:20260423T060924
CREATED:20240531T115856Z
LAST-MODIFIED:20240531T121111Z
UID:89435-1717926300-1717934400@www.vannes.catholique.fr
SUMMARY:Messe en rite oriental le dimanche 9 juin 2024 à Vannes
DESCRIPTION:À la rencontre de l’Église chaldéenne\, samedi 9 juin à la Paroisse Notre Dame de Lourdes à Vannes.
URL:https://www.vannes.catholique.fr/evenement/messe-en-rite-oriental-le-dimanche-9-juin-2024-a-vannes/
END:VEVENT
BEGIN:VEVENT
DTSTART;TZID=Europe/Paris:20240609T100000
DTEND;TZID=Europe/Paris:20240609T120000
DTSTAMP:20260423T060924
CREATED:20240606T093411Z
LAST-MODIFIED:20240606T093411Z
UID:89521-1717927200-1717934400@www.vannes.catholique.fr
SUMMARY:Confirmations à Bréhan
DESCRIPTION:
URL:https://www.vannes.catholique.fr/evenement/confirmations-a-brehan/
CATEGORIES:Evêque
END:VEVENT
BEGIN:VEVENT
DTSTART;VALUE=DATE:20240611
DTEND;VALUE=DATE:20240612
DTSTAMP:20260423T060924
CREATED:20240606T093512Z
LAST-MODIFIED:20240606T093512Z
UID:89523-1718064000-1718150399@www.vannes.catholique.fr
SUMMARY:Codiec (DDEC)
DESCRIPTION:
URL:https://www.vannes.catholique.fr/evenement/codiec-ddec/
CATEGORIES:Evêque
END:VEVENT
BEGIN:VEVENT
DTSTART;VALUE=DATE:20240612
DTEND;VALUE=DATE:20240613
DTSTAMP:20260423T060924
CREATED:20240606T093547Z
LAST-MODIFIED:20240606T093547Z
UID:89525-1718150400-1718236799@www.vannes.catholique.fr
SUMMARY:Conseil épiscopal
DESCRIPTION:
URL:https://www.vannes.catholique.fr/evenement/conseil-episcopal-50/
CATEGORIES:Evêque
END:VEVENT
BEGIN:VEVENT
DTSTART;TZID=Europe/Paris:20240612T200000
DTEND;TZID=Europe/Paris:20240612T220000
DTSTAMP:20260423T060924
CREATED:20230526T094514Z
LAST-MODIFIED:20230530T133305Z
UID:83203-1718222400-1718229600@www.vannes.catholique.fr
SUMMARY:Theix - Athénée Scholè - Fondamentaux 12/12
DESCRIPTION:Lieu : Theix – Salle Saint Vincent Ferrier – 9 rue de la chapelle \nEcclésiologie – Réflexions sur l’Eglise – Mgr Raymond Centène \nContact local : Hélène Perrin  06 29 64 52 67   athenee.theix@gmail.com
URL:https://www.vannes.catholique.fr/evenement/theix-schole-fondamentaux-12-12-lieu-theix-salle-saint-vincent-ferrier-9-rue-de-la-chapelle-foi-et-raison-les-deux-ailes-de-lintelligence-qui-selevent-la-verite-f-innocents/
CATEGORIES:Formations - Réflexions
ORGANIZER;CN="Formation Humaine et Chr%C3%A9tienne":MAILTO:formationhec@diocese-vannes.fr
END:VEVENT
BEGIN:VEVENT
DTSTART;VALUE=DATE:20240613
DTEND;VALUE=DATE:20240614
DTSTAMP:20260423T060924
CREATED:20240606T093625Z
LAST-MODIFIED:20240606T093625Z
UID:89527-1718236800-1718323199@www.vannes.catholique.fr
SUMMARY:Messe à Sainte-Anne-d’Auray pour le pèlerinage du MCR d’Ille-et-Vilaine
DESCRIPTION:
URL:https://www.vannes.catholique.fr/evenement/messe-a-sainte-anne-dauray-pour-le-pelerinage-du-mcr-dille-et-vilaine/
CATEGORIES:Evêque
END:VEVENT
BEGIN:VEVENT
DTSTART;TZID=Europe/Paris:20240613T200000
DTEND;TZID=Europe/Paris:20240613T220000
DTSTAMP:20260423T060924
CREATED:20230601T132051Z
LAST-MODIFIED:20230602T074754Z
UID:83529-1718308800-1718316000@www.vannes.catholique.fr
SUMMARY:Lorient - Athénée Scholè - Itinéraire spirituel 9/9
DESCRIPTION:Lieu : Lorient \nCours 9 – Spiritualité contemporaine et conclusion \n 
URL:https://www.vannes.catholique.fr/evenement/lorient-athenee-schole-itineraire-spirituel-9-9/
CATEGORIES:Formations - Réflexions
ORGANIZER;CN="Formation Humaine et Chr%C3%A9tienne":MAILTO:formationhec@diocese-vannes.fr
END:VEVENT
BEGIN:VEVENT
DTSTART;VALUE=DATE:20240614
DTEND;VALUE=DATE:20240617
DTSTAMP:20260423T060924
CREATED:20240531T121602Z
LAST-MODIFIED:20240531T122022Z
UID:89446-1718323200-1718582399@www.vannes.catholique.fr
SUMMARY:J'ai une décision à prendre : session pro au centre spirituel de Penboch
DESCRIPTION:
URL:https://www.vannes.catholique.fr/evenement/jai-une-decision-a-prendre-session-pro-au-centre-spirituel-de-penboch/
CATEGORIES:Retraites - Sessions
END:VEVENT
BEGIN:VEVENT
DTSTART;TZID=Europe/Paris:20240614T180000
DTEND;TZID=Europe/Paris:20240616T170000
DTSTAMP:20260423T060924
CREATED:20240607T133237Z
LAST-MODIFIED:20240607T133237Z
UID:89670-1718388000-1718557200@www.vannes.catholique.fr
SUMMARY:Session « Quand les enfants quittent la maison » : duand le couple se retrouve seul et doit inventer une nouvelle vie à deux.
DESCRIPTION:Courts éclairages et témoignages\, essentiellement réflexion personnelle et à deux\, échanges entre participants\, recueillement et prière. Animation par un couple et un prêtre. \nContacter le centre de Penboc’h pour plus de renseignement
URL:https://www.vannes.catholique.fr/evenement/session-quand-les-enfants-quittent-la-maison-duand-le-couple-se-retrouve-seul-et-doit-inventer-une-nouvelle-vie-a-deux/
LOCATION:Centre spirituel de Penboc’h\, Arradon\, 56610\, France
CATEGORIES:Retraites - Sessions
ORGANIZER;CN="Centre Spirituel de Penboc'h":MAILTO:accueil@penboch.fr
END:VEVENT
BEGIN:VEVENT
DTSTART;TZID=Europe/Paris:20240614T200000
DTEND;TZID=Europe/Paris:20240614T213000
DTSTAMP:20260423T060924
CREATED:20230608T130758Z
LAST-MODIFIED:20230608T130758Z
UID:83942-1718395200-1718400600@www.vannes.catholique.fr
SUMMARY:Lorient - Athénée Scholè - Visio Divina 2 - Parcours ciné-débat 8/8
DESCRIPTION:Lieu : Lorient Paroisse Saint Christophe \nThe chosen saison 2 – Suite des épisodes proposés précédemment \nSéance 8 – Au-delà des montagnes
URL:https://www.vannes.catholique.fr/evenement/lorient-athenee-schole-visio-divina-2-parcours-cine-debat-8-8/
CATEGORIES:Concerts - Spectacles - Fêtes - Film,Formations - Réflexions
ORGANIZER;CN="Formation Humaine et Chr%C3%A9tienne":MAILTO:formationhec@diocese-vannes.fr
END:VEVENT
BEGIN:VEVENT
DTSTART;TZID=Europe/Paris:20240614T203000
DTEND;TZID=Europe/Paris:20240614T220000
DTSTAMP:20260423T060924
CREATED:20230608T131718Z
LAST-MODIFIED:20230608T131718Z
UID:83960-1718397000-1718402400@www.vannes.catholique.fr
SUMMARY:Pontivy - Athénée Scholè - Visio Divina 2 - Parcours ciné-débat 8/8
DESCRIPTION:Lieu : Pontivy Presbytère \nThe chosen saison 2 – Suite des épisodes proposés précédemment \nSéance 8 – Au-delà des montagnes
URL:https://www.vannes.catholique.fr/evenement/pontivy-athenee-schole-visio-divina-2-parcours-cine-debat-8-8/
CATEGORIES:Concerts - Spectacles - Fêtes - Film,Formations - Réflexions
ORGANIZER;CN="Formation Humaine et Chr%C3%A9tienne":MAILTO:formationhec@diocese-vannes.fr
END:VEVENT
BEGIN:VEVENT
DTSTART;TZID=Europe/Paris:20240616T153000
DTEND;TZID=Europe/Paris:20240616T173000
DTSTAMP:20260423T060924
CREATED:20240531T121320Z
LAST-MODIFIED:20240531T121348Z
UID:89443-1718551800-1718559000@www.vannes.catholique.fr
SUMMARY:Ordinations presbytérale et diaconale le 16 juin 2024 à Sainte-Anne-d'Auray
DESCRIPTION:Le dimanche 16 juin 2024 en la basilique Sainte Anne de Sainte-Anne-d’Auray à 15h30\, Monseigneur Raymond CENTÈNE\, évêque de Vannes\, ordonnera : \n\n\n\nPrêtre : Étienne MAROIS diacre en vue du presbytérat : Louis-Henri CHOUANE
URL:https://www.vannes.catholique.fr/evenement/ordinations-presbyterale-et-diaconale-le-16-juin-2024-a-sainte-anne-dauray/
LOCATION:Basilique Sainte Anne d’Auray\, 9 rue de Vannes\, Sainte Anne d'Auray\, 56400\, France
CATEGORIES:Evêque
END:VEVENT
BEGIN:VEVENT
DTSTART;TZID=Europe/Paris:20240616T180000
DTEND;TZID=Europe/Paris:20240616T210000
DTSTAMP:20260423T060924
CREATED:20240607T133454Z
LAST-MODIFIED:20240607T133454Z
UID:89672-1718560800-1718571600@www.vannes.catholique.fr
SUMMARY:Concert à la chapelle Notre-Dame-de-la-Garde à Ploemeur
DESCRIPTION:Concert de la chorale Tempéraments de Queven\, musique instrumentale (violoncelle) et vocale (chœur mixte à 4 voix).
URL:https://www.vannes.catholique.fr/evenement/concert-a-la-chapelle-notre-dame-de-la-garde-a-ploemeur/
CATEGORIES:Concerts - Spectacles - Fêtes - Film
END:VEVENT
BEGIN:VEVENT
DTSTART;TZID=Europe/Paris:20240617T080000
DTEND;TZID=Europe/Paris:20240624T170000
DTSTAMP:20260423T060924
CREATED:20240607T133702Z
LAST-MODIFIED:20240607T133702Z
UID:89674-1718611200-1719248400@www.vannes.catholique.fr
SUMMARY:Retraite spirituelle à l'Abbaye de Rhuys
DESCRIPTION:« La confiance est la vie de l’âme » animée par le père Claude Flipo\, jésuite. Retraite en silence. \nContact : 02 97 45 23 10
URL:https://www.vannes.catholique.fr/evenement/retraite-spirituelle-a-labbaye-de-rhuys/
LOCATION:Abbaye de Rhuys\, 1 place Monseigneur Ropert\, Saint Gildas de Rhuys\, 56730\, France
CATEGORIES:Retraites - Sessions
ORGANIZER;CN="Abbaye de Rhuys":MAILTO:abbaye.de.rhuys@wanadoo.fr
END:VEVENT
BEGIN:VEVENT
DTSTART;VALUE=DATE:20240619
DTEND;VALUE=DATE:20240620
DTSTAMP:20260423T060924
CREATED:20240606T093707Z
LAST-MODIFIED:20240606T093707Z
UID:89529-1718755200-1718841599@www.vannes.catholique.fr
SUMMARY:Conseil épiscopal élargi
DESCRIPTION:
URL:https://www.vannes.catholique.fr/evenement/conseil-episcopal-elargi-7/
CATEGORIES:Evêque
END:VEVENT
BEGIN:VEVENT
DTSTART;VALUE=DATE:20240619
DTEND;VALUE=DATE:20240620
DTSTAMP:20260423T060924
CREATED:20240606T093829Z
LAST-MODIFIED:20240606T093829Z
UID:89532-1718755200-1718841599@www.vannes.catholique.fr
SUMMARY:Messe d’action de grâce pour le départ de M. Gouraud\, directeur diocésain de l’enseignement catholique
DESCRIPTION:
URL:https://www.vannes.catholique.fr/evenement/messe-daction-de-grace-pour-le-depart-de-m-gouraud-directeur-diocesain-de-lenseignement-catholique/
CATEGORIES:Evêque
END:VEVENT
BEGIN:VEVENT
DTSTART;VALUE=DATE:20240620
DTEND;VALUE=DATE:20240621
DTSTAMP:20260423T060924
CREATED:20240531T121805Z
LAST-MODIFIED:20240531T121805Z
UID:89450-1718841600-1718927999@www.vannes.catholique.fr
SUMMARY:Pèlerinage des personnes âgées en établissements à Sainte-Anne-d'Auray
DESCRIPTION:
URL:https://www.vannes.catholique.fr/evenement/pelerinage-des-personnes-agees-en-etablissements-a-sainte-anne-dauray/
LOCATION:Basilique Sainte Anne d’Auray\, 9 rue de Vannes\, Sainte Anne d'Auray\, 56400\, France
END:VEVENT
BEGIN:VEVENT
DTSTART;VALUE=DATE:20240620
DTEND;VALUE=DATE:20240621
DTSTAMP:20260423T060924
CREATED:20240606T093904Z
LAST-MODIFIED:20240606T093904Z
UID:89534-1718841600-1718927999@www.vannes.catholique.fr
SUMMARY:Assemblée générale du MCR à Paris
DESCRIPTION:
URL:https://www.vannes.catholique.fr/evenement/assemblee-generale-du-mcr-a-paris/
CATEGORIES:Evêque
END:VEVENT
BEGIN:VEVENT
DTSTART;TZID=Europe/Paris:20240620T093000
DTEND;TZID=Europe/Paris:20240620T160000
DTSTAMP:20260423T060924
CREATED:20230912T092645Z
LAST-MODIFIED:20240531T122150Z
UID:85124-1718875800-1718899200@www.vannes.catholique.fr
SUMMARY:Forum #8 des catéchistes : Échange et Partage
DESCRIPTION:
URL:https://www.vannes.catholique.fr/evenement/vannes-catechese-forum-8/
LOCATION:Maison du diocèse – Espace Montcalm\, 55 rue Mgr Tréhiou - CS 92241\, Vannes\, 56007\, France
CATEGORIES:Formations - Réflexions
ORGANIZER;CN="Service Dioc%C3%A9sain de Cat%C3%A9ch%C3%A8se SDPC":MAILTO:catechese56@gmail.com
END:VEVENT
BEGIN:VEVENT
DTSTART;TZID=Europe/Paris:20240620T093000
DTEND;TZID=Europe/Paris:20240620T160000
DTSTAMP:20260423T060924
CREATED:20240607T133855Z
LAST-MODIFIED:20240607T133855Z
UID:89676-1718875800-1718899200@www.vannes.catholique.fr
SUMMARY:Forum des Catéchistes
DESCRIPTION:« Parle Seigneur\, ton serviteur écoute » pour les catéchistes du diocèse. Sur inscription.
URL:https://www.vannes.catholique.fr/evenement/forum-des-catechistes/
LOCATION:Maison du diocèse – Espace Montcalm\, 55 rue Mgr Tréhiou - CS 92241\, Vannes\, 56007\, France
CATEGORIES:Formations - Réflexions
ORGANIZER;CN="Service Dioc%C3%A9sain de Cat%C3%A9ch%C3%A8se SDPC":MAILTO:catechese56@gmail.com
END:VEVENT
BEGIN:VEVENT
DTSTART;TZID=Europe/Paris:20240620T203000
DTEND;TZID=Europe/Paris:20240620T223000
DTSTAMP:20260423T060924
CREATED:20240617T064325Z
LAST-MODIFIED:20240617T064325Z
UID:89830-1718915400-1718922600@www.vannes.catholique.fr
SUMMARY:Concert du chœur d’Hommes de Vannes et de l’ensemble polyphonique du conservatoire de Vannes
DESCRIPTION:pour la restauration des Orgues de l’église Saint- Patern de Vannes. Tarif : 12 €\, billetterie en ligne sur Billetweb. Jeudi 20 juin à 20 h 30\, église Saint-Patern\, Vannes.
URL:https://www.vannes.catholique.fr/evenement/concert-du-choeur-dhommes-de-vannes-et-de-lensemble-polyphonique-du-conservatoire-de-vannes/
END:VEVENT
BEGIN:VEVENT
DTSTART;TZID=Europe/Paris:20240621T180000
DTEND;TZID=Europe/Paris:20240623T180000
DTSTAMP:20260423T060924
CREATED:20240617T073218Z
LAST-MODIFIED:20240617T073218Z
UID:89852-1718992800-1719165600@www.vannes.catholique.fr
SUMMARY:Session vie pro et vie perso au centre spirituel de Penboch
DESCRIPTION:Consultez notre article : Trouver l’Équilibre : session « Vie Pro et Vie Perso » au Centre Spirituel de Penboc’h du 21 au 23 juin 2024 – Diocèse de Vannes (catholique.fr)
URL:https://www.vannes.catholique.fr/evenement/session-vie-pro-et-vie-perso-au-centre-spirituel-de-penboch/
LOCATION:Centre spirituel de Penboc’h\, Arradon\, 56610\, France
CATEGORIES:Retraites - Sessions
ORGANIZER;CN="Centre Spirituel de Penboc'h":MAILTO:accueil@penboch.fr
END:VEVENT
END:VCALENDAR